BEGIN:VCALENDAR
VERSION:2.0
PRODID:-//Japanswordmuseumthailand - ECPv6.3.1//NONSGML v1.0//EN
CALSCALE:GREGORIAN
METHOD:PUBLISH
X-WR-CALNAME:Japanswordmuseumthailand
X-ORIGINAL-URL:https://japaneseswordmuseumthailand.com
X-WR-CALDESC:Events for Japanswordmuseumthailand
REFRESH-INTERVAL;VALUE=DURATION:PT1H
X-Robots-Tag:noindex
X-PUBLISHED-TTL:PT1H
BEGIN:VTIMEZONE
TZID:Asia/Krasnoyarsk
BEGIN:STANDARD
TZOFFSETFROM:+0700
TZOFFSETTO:+0700
TZNAME:+07
DTSTART:20250101T000000
END:STANDARD
END:VTIMEZONE
BEGIN:VEVENT
DTSTART;VALUE=DATE:20251103
DTEND;VALUE=DATE:20251104
DTSTAMP:20260423T232100
CREATED:20230401T100657Z
LAST-MODIFIED:20250107T150325Z
UID:1491-1762128000-1762214399@japaneseswordmuseumthailand.com
SUMMARY:วันวัฒนธรรม
DESCRIPTION:เป็นวันที่แสดงออกถึงความรักในเสรีภาพ ความสงบสุข และชื่นชมในวัฒนธรรม ที่โตเกียวจะคึกคักไปด้วยอีเวนต์ทางวัฒนธรรมต่างๆ พิพิธภัณฑ์ศิลปะและพิพิธภัณฑ์ใหญ่ๆ หลายแห่งในญี่ปุ่นจะไม่เสียค่าเข้าชม
URL:https://japaneseswordmuseumthailand.com/event/%e0%b8%a7%e0%b8%b1%e0%b8%99%e0%b8%a7%e0%b8%b1%e0%b8%92%e0%b8%99%e0%b8%98%e0%b8%a3%e0%b8%a3%e0%b8%a1/
CATEGORIES:ญี่ปุ่น
END:VEVENT
BEGIN:VEVENT
DTSTART;VALUE=DATE:20251103
DTEND;VALUE=DATE:20251104
DTSTAMP:20260423T232100
CREATED:20230408T123604Z
LAST-MODIFIED:20250107T150316Z
UID:1808-1762128000-1762214399@japaneseswordmuseumthailand.com
SUMMARY:culture day
DESCRIPTION:It is a day to express love of freedom\, peace and appreciation for culture. Tokyo is bustling with various cultural events. Art museums and major museums Many places in Japan are free to enter.
URL:https://japaneseswordmuseumthailand.com/event/culture-day-2/
CATEGORIES:อังกฤษ
END:VEVENT
BEGIN:VEVENT
DTSTART;VALUE=DATE:20251103
DTEND;VALUE=DATE:20251104
DTSTAMP:20260423T232100
CREATED:20240126T135829Z
LAST-MODIFIED:20250107T132702Z
UID:1994-1762128000-1762214399@japaneseswordmuseumthailand.com
SUMMARY:culture day
DESCRIPTION:It is a day to express love of freedom\, peace and appreciation for culture. Tokyo is bustling with various cultural events. Art museums and major museums Many places in Japan are free to enter.
URL:https://japaneseswordmuseumthailand.com/event/culture-day/
CATEGORIES:อังกฤษ
END:VEVENT
BEGIN:VEVENT
DTSTART;VALUE=DATE:20251103
DTEND;VALUE=DATE:20251104
DTSTAMP:20260423T232100
CREATED:20240126T135851Z
LAST-MODIFIED:20250107T132649Z
UID:1993-1762128000-1762214399@japaneseswordmuseumthailand.com
SUMMARY:วันวัฒนธรรม
DESCRIPTION:เป็นวันที่แสดงออกถึงความรักในเสรีภาพ ความสงบสุข และชื่นชมในวัฒนธรรม ที่โตเกียวจะคึกคักไปด้วยอีเวนต์ทางวัฒนธรรมต่างๆ พิพิธภัณฑ์ศิลปะและพิพิธภัณฑ์ใหญ่ๆ หลายแห่งในญี่ปุ่นจะไม่เสียค่าเข้าชม
URL:https://japaneseswordmuseumthailand.com/event/%e0%b8%a7%e0%b8%b1%e0%b8%99%e0%b8%a7%e0%b8%b1%e0%b8%92%e0%b8%99%e0%b8%98%e0%b8%a3%e0%b8%a3%e0%b8%a1-2/
CATEGORIES:ญี่ปุ่น
END:VEVENT
BEGIN:VEVENT
DTSTART;VALUE=DATE:20251108
DTEND;VALUE=DATE:20251109
DTSTAMP:20260423T232100
CREATED:20230401T090425Z
LAST-MODIFIED:20250107T150307Z
UID:1451-1762560000-1762646399@japaneseswordmuseumthailand.com
SUMMARY:วันลอยกระทง
DESCRIPTION:วันลอยกระทงตรงกับวันขึ้น 15 ค่ำ เดือน 12 ตามปฏิทินจันทรคติไทย วันลอยกระทงเป็นประเพณีเก่าแก่ของไทยที่มีไว้เพื่อขอขมาต่อพระแม่คงคม ที่ได้ล่วงเกินหรือกระทำการใดอันไม่สมควรกับแม่น้ำลำธารทุกสาย
URL:https://japaneseswordmuseumthailand.com/event/%e0%b8%a7%e0%b8%b1%e0%b8%99%e0%b8%a5%e0%b8%ad%e0%b8%a2%e0%b8%81%e0%b8%a3%e0%b8%b0%e0%b8%97%e0%b8%87/
CATEGORIES:ไทย
END:VEVENT
BEGIN:VEVENT
DTSTART;VALUE=DATE:20251108
DTEND;VALUE=DATE:20251109
DTSTAMP:20260423T232100
CREATED:20230408T123537Z
LAST-MODIFIED:20250107T150259Z
UID:1806-1762560000-1762646399@japaneseswordmuseumthailand.com
SUMMARY:Loi Krathong Day
DESCRIPTION:Loy Krathong falls on the 15th day of the 12th lunar month according to the Thai lunar calendar. Loi Krathong Day is an old tradition of Thailand that is intended to ask for forgiveness from Mae Khongkhom. who has violated or acted inappropriately with all rivers and streams
URL:https://japaneseswordmuseumthailand.com/event/loi-krathong-day-2/
CATEGORIES:อังกฤษ
END:VEVENT
BEGIN:VEVENT
DTSTART;VALUE=DATE:20251108
DTEND;VALUE=DATE:20251109
DTSTAMP:20260423T232100
CREATED:20240126T135726Z
LAST-MODIFIED:20250107T132641Z
UID:1996-1762560000-1762646399@japaneseswordmuseumthailand.com
SUMMARY:Loi Krathong Day
DESCRIPTION:Loy Krathong falls on the 15th day of the 12th lunar month according to the Thai lunar calendar. Loi Krathong Day is an old tradition of Thailand that is intended to ask for forgiveness from Mae Khongkhom. who has violated or acted inappropriately with all rivers and streams
URL:https://japaneseswordmuseumthailand.com/event/loi-krathong-day/
CATEGORIES:อังกฤษ
END:VEVENT
BEGIN:VEVENT
DTSTART;VALUE=DATE:20251114
DTEND;VALUE=DATE:20251115
DTSTAMP:20260423T232100
CREATED:20230401T090321Z
LAST-MODIFIED:20250107T150251Z
UID:1447-1763078400-1763164799@japaneseswordmuseumthailand.com
SUMMARY:วันพระบิดาฝนหลวง
DESCRIPTION:วันที่ 14 พฤศจิกายน ของทุกปี ถือเป็นวันพระบิดาแห่งฝนหลวง โดยมีขึ้นเพื่อน้อมรำลึกในพระมหากรุณาธิคุณของพระบาทสมเด็จพระปรมินทรมหาภูมิพลอดุลยเดช รัชกาลที่ 9 ที่ทรงคิดค้นเทคโนโลยีฝนหลวงเพื่อแก้ปัญหาภัยแล้งให้พสกนิกรชาวไทย
URL:https://japaneseswordmuseumthailand.com/event/%e0%b8%a7%e0%b8%b1%e0%b8%99%e0%b8%9e%e0%b8%a3%e0%b8%b0%e0%b8%9a%e0%b8%b4%e0%b8%94%e0%b8%b2%e0%b8%9d%e0%b8%99%e0%b8%ab%e0%b8%a5%e0%b8%a7%e0%b8%87/
CATEGORIES:ไทย
END:VEVENT
BEGIN:VEVENT
DTSTART;VALUE=DATE:20251114
DTEND;VALUE=DATE:20251115
DTSTAMP:20260423T232100
CREATED:20230408T123509Z
LAST-MODIFIED:20250107T150244Z
UID:1804-1763078400-1763164799@japaneseswordmuseumthailand.com
SUMMARY:Rain Luang Father's Day
DESCRIPTION:November 14th of every year is the Father of Royal Rainmaking Day. It was established to commemorate the graciousness of His Majesty King Bhumibol Adulyadej\, King Rama IX\, who invented royal rainmaking technology to solve drought problems for Thai people.
URL:https://japaneseswordmuseumthailand.com/event/rain-luang-fathers-day-2/
CATEGORIES:อังกฤษ
END:VEVENT
BEGIN:VEVENT
DTSTART;VALUE=DATE:20251115
DTEND;VALUE=DATE:20251116
DTSTAMP:20260423T232100
CREATED:20240126T135806Z
LAST-MODIFIED:20250107T132633Z
UID:1995-1763164800-1763251199@japaneseswordmuseumthailand.com
SUMMARY:วันลอยกระทง
DESCRIPTION:วันลอยกระทงตรงกับวันขึ้น 15 ค่ำ เดือน 12 ตามปฏิทินจันทรคติไทย วันลอยกระทงเป็นประเพณีเก่าแก่ของไทยที่มีไว้เพื่อขอขมาต่อพระแม่คงคม ที่ได้ล่วงเกินหรือกระทำการใดอันไม่สมควรกับแม่น้ำลำธารทุกสาย
URL:https://japaneseswordmuseumthailand.com/event/%e0%b8%a7%e0%b8%b1%e0%b8%99%e0%b8%a5%e0%b8%ad%e0%b8%a2%e0%b8%81%e0%b8%a3%e0%b8%b0%e0%b8%97%e0%b8%87-2/
CATEGORIES:ไทย
END:VEVENT
BEGIN:VEVENT
DTSTART;VALUE=DATE:20251123
DTEND;VALUE=DATE:20251124
DTSTAMP:20260423T232100
CREATED:20230401T100728Z
LAST-MODIFIED:20250107T150235Z
UID:1493-1763856000-1763942399@japaneseswordmuseumthailand.com
SUMMARY:วันขอบคุณแรงงาน
DESCRIPTION:เป็นวันขอบคุณการใช้แรงงานในทุกๆ วัน
URL:https://japaneseswordmuseumthailand.com/event/%e0%b8%a7%e0%b8%b1%e0%b8%99%e0%b8%82%e0%b8%ad%e0%b8%9a%e0%b8%84%e0%b8%b8%e0%b8%93%e0%b9%81%e0%b8%a3%e0%b8%87%e0%b8%87%e0%b8%b2%e0%b8%99/
CATEGORIES:ญี่ปุ่น
END:VEVENT
BEGIN:VEVENT
DTSTART;VALUE=DATE:20251123
DTEND;VALUE=DATE:20251124
DTSTAMP:20260423T232100
CREATED:20230408T123434Z
LAST-MODIFIED:20250107T150228Z
UID:1802-1763856000-1763942399@japaneseswordmuseumthailand.com
SUMMARY:labor appreciation day
DESCRIPTION:It is a day of appreciation for labor every day.
URL:https://japaneseswordmuseumthailand.com/event/labor-appreciation-day-2/
CATEGORIES:อังกฤษ
END:VEVENT
BEGIN:VEVENT
DTSTART;VALUE=DATE:20251123
DTEND;VALUE=DATE:20251124
DTSTAMP:20260423T232100
CREATED:20240126T135706Z
LAST-MODIFIED:20250107T132622Z
UID:1998-1763856000-1763942399@japaneseswordmuseumthailand.com
SUMMARY:labor appreciation day
DESCRIPTION:It is a day of appreciation for labor every day.
URL:https://japaneseswordmuseumthailand.com/event/labor-appreciation-day/
CATEGORIES:อังกฤษ
END:VEVENT
BEGIN:VEVENT
DTSTART;VALUE=DATE:20251123
DTEND;VALUE=DATE:20251124
DTSTAMP:20260423T232100
CREATED:20240126T135716Z
LAST-MODIFIED:20250107T132612Z
UID:1997-1763856000-1763942399@japaneseswordmuseumthailand.com
SUMMARY:วันขอบคุณแรงงาน
DESCRIPTION:เป็นวันขอบคุณการใช้แรงงานในทุกๆ วัน
URL:https://japaneseswordmuseumthailand.com/event/%e0%b8%a7%e0%b8%b1%e0%b8%99%e0%b8%82%e0%b8%ad%e0%b8%9a%e0%b8%84%e0%b8%b8%e0%b8%93%e0%b9%81%e0%b8%a3%e0%b8%87%e0%b8%87%e0%b8%b2%e0%b8%99-2/
CATEGORIES:ญี่ปุ่น
END:VEVENT
BEGIN:VEVENT
DTSTART;VALUE=DATE:20251125
DTEND;VALUE=DATE:20251126
DTSTAMP:20260423T232100
CREATED:20230401T090355Z
LAST-MODIFIED:20250107T150219Z
UID:1449-1764028800-1764115199@japaneseswordmuseumthailand.com
SUMMARY:วันวชิราวุธ
DESCRIPTION:วันวชิราวุธตรงกับวันที่ 25 พฤศจิกายน ของทุกปี โดยเป็นวันคล้ายวันสวรรคตของพระบาทสมเด็จพระมงกุฎเกล้าเจ้าอยู่หัว (ร.6) เพื่อน้อมรำลึกถึงพระมหากรุณาธิคุณของพระองค์ ทั้งในด้านเศรษฐกิจ การปกครอง กิจการเสือป่าและลูกเสือ รวมทั้งด้านศิลปวัฒนธรรมและวรรณคดี
URL:https://japaneseswordmuseumthailand.com/event/%e0%b8%a7%e0%b8%b1%e0%b8%99%e0%b8%a7%e0%b8%8a%e0%b8%b4%e0%b8%a3%e0%b8%b2%e0%b8%a7%e0%b8%b8%e0%b8%98/
CATEGORIES:ไทย
END:VEVENT
BEGIN:VEVENT
DTSTART;VALUE=DATE:20251125
DTEND;VALUE=DATE:20251126
DTSTAMP:20260423T232100
CREATED:20230408T123346Z
LAST-MODIFIED:20250107T150208Z
UID:1800-1764028800-1764115199@japaneseswordmuseumthailand.com
SUMMARY:Vajiravudh Day
DESCRIPTION:Vajiravudh Day falls on November 25 of every year\, which is the day to commemorate the death of King Rama VI (Rama VI) to commemorate His Majesty’s benevolence. Both in economy\, government\, forest scouting and boy scout affairs. including arts\, culture and literature
URL:https://japaneseswordmuseumthailand.com/event/vajiravudh-day-2/
CATEGORIES:อังกฤษ
END:VEVENT
END:VCALENDAR