BEGIN:VCALENDAR
VERSION:2.0
PRODID:-//Japanswordmuseumthailand - ECPv6.3.1//NONSGML v1.0//EN
CALSCALE:GREGORIAN
METHOD:PUBLISH
X-WR-CALNAME:Japanswordmuseumthailand
X-ORIGINAL-URL:https://japaneseswordmuseumthailand.com
X-WR-CALDESC:Events for Japanswordmuseumthailand
REFRESH-INTERVAL;VALUE=DURATION:PT1H
X-Robots-Tag:noindex
X-PUBLISHED-TTL:PT1H
BEGIN:VTIMEZONE
TZID:Asia/Krasnoyarsk
BEGIN:STANDARD
TZOFFSETFROM:+0700
TZOFFSETTO:+0700
TZNAME:+07
DTSTART:20250101T000000
END:STANDARD
END:VTIMEZONE
BEGIN:VEVENT
DTSTART;VALUE=DATE:20251001
DTEND;VALUE=DATE:20251002
DTSTAMP:20260424T004741
CREATED:20230401T100751Z
LAST-MODIFIED:20250107T150602Z
UID:1495-1759276800-1759363199@japaneseswordmuseumthailand.com
SUMMARY:วันรำลึกอื่นๆ ฯลฯ
DESCRIPTION:วันที่ 1 ตุลาคม เป็นวันชาวเมืองหลวง เนื่องจากที่โตเกียวจะเป็นวันรำลึก สถานที่ต่างๆ ที่กรุงโตเกียวเป็นผู้บริหารจัดการ จะไม่เสียค่าเข้าชม
URL:https://japaneseswordmuseumthailand.com/event/%e0%b8%a7%e0%b8%b1%e0%b8%99%e0%b8%a3%e0%b8%b3%e0%b8%a5%e0%b8%b6%e0%b8%81%e0%b8%ad%e0%b8%b7%e0%b9%88%e0%b8%99%e0%b9%86-%e0%b8%af%e0%b8%a5%e0%b8%af/
CATEGORIES:ญี่ปุ่น
END:VEVENT
BEGIN:VEVENT
DTSTART;VALUE=DATE:20251001
DTEND;VALUE=DATE:20251002
DTSTAMP:20260424T004741
CREATED:20230408T130947Z
LAST-MODIFIED:20250107T150555Z
UID:1895-1759276800-1759363199@japaneseswordmuseumthailand.com
SUMMARY:Other Memorial Day\, etc.
DESCRIPTION:October 1st is Capital Day. Since Tokyo is Memorial Day\, various places managed by the Tokyo Metropolitan Government. There will be no admission fee.
URL:https://japaneseswordmuseumthailand.com/event/other-memorial-day-etc-2/
CATEGORIES:อังกฤษ
END:VEVENT
BEGIN:VEVENT
DTSTART;VALUE=DATE:20251002
DTEND;VALUE=DATE:20251003
DTSTAMP:20260424T004741
CREATED:20230401T100631Z
LAST-MODIFIED:20250107T150549Z
UID:1489-1759363200-1759449599@japaneseswordmuseumthailand.com
SUMMARY:วันแห่งกีฬา
DESCRIPTION:เป็นวันที่สนุกกับการเล่นกีฬา และตระหนักถึงความสำคัญของสุขภาพร่างกายและจิตใจ
URL:https://japaneseswordmuseumthailand.com/event/%e0%b8%a7%e0%b8%b1%e0%b8%99%e0%b9%81%e0%b8%ab%e0%b9%88%e0%b8%87%e0%b8%81%e0%b8%b5%e0%b8%ac%e0%b8%b2/
CATEGORIES:ญี่ปุ่น
END:VEVENT
BEGIN:VEVENT
DTSTART;VALUE=DATE:20251002
DTEND;VALUE=DATE:20251003
DTSTAMP:20260424T004741
CREATED:20230408T130916Z
LAST-MODIFIED:20250107T150542Z
UID:1893-1759363200-1759449599@japaneseswordmuseumthailand.com
SUMMARY:sports day
DESCRIPTION:It was a fun day of sports. and realize the importance of physical and mental health
URL:https://japaneseswordmuseumthailand.com/event/sports-day-2/
CATEGORIES:อังกฤษ
END:VEVENT
BEGIN:VEVENT
DTSTART;VALUE=DATE:20251013
DTEND;VALUE=DATE:20251014
DTSTAMP:20260424T004741
CREATED:20230401T090134Z
LAST-MODIFIED:20250107T150535Z
UID:1441-1760313600-1760399999@japaneseswordmuseumthailand.com
SUMMARY:วันคล้ายวันสวรรคต ในหลวง ร.9
DESCRIPTION:13 ตุลาคม วันที่ประชาชนชาวไทยหลั่งน้ำตาและโศกเศร้ากับการสวรรรคตของพระบาทสมเด็จพระปรมิทรมหาภูมิพลอดุลยเดช รัชกาลที่ 9 และรัฐบาลได้กำหนดให้วันที่ 13 ตุลาคม ของทุกปี เป็นวันหยุดราชการ เพื่อให้ประชาชนชาวไทยได้น้อมรำลึกถึงพระมหากรุณาธิคุณของรัชกาลที่ 9 ที่มีต่อประชาชนของพระองค์ตลอดรัชสมัย
URL:https://japaneseswordmuseumthailand.com/event/%e0%b8%a7%e0%b8%b1%e0%b8%99%e0%b8%84%e0%b8%a5%e0%b9%89%e0%b8%b2%e0%b8%a2%e0%b8%a7%e0%b8%b1%e0%b8%99%e0%b8%aa%e0%b8%a7%e0%b8%a3%e0%b8%a3%e0%b8%84%e0%b8%95-%e0%b9%83%e0%b8%99%e0%b8%ab%e0%b8%a5%e0%b8%a7/
CATEGORIES:ไทย
END:VEVENT
BEGIN:VEVENT
DTSTART;VALUE=DATE:20251013
DTEND;VALUE=DATE:20251014
DTSTAMP:20260424T004741
CREATED:20230408T130838Z
LAST-MODIFIED:20250107T150400Z
UID:1891-1760313600-1760399999@japaneseswordmuseumthailand.com
SUMMARY:On the day of the death of King Rama 9
DESCRIPTION:October 13th is the day that Thai people shed tears and mourn the death of His Majesty King Bhumibol Adulyadej\, Rama IX and the government has designated October 13th of every year as a public holiday. for the Thai people to commemorate King Rama IX’s kindness towards his people throughout his reign
URL:https://japaneseswordmuseumthailand.com/event/on-the-day-of-the-death-of-king-rama-9-2/
CATEGORIES:อังกฤษ
END:VEVENT
BEGIN:VEVENT
DTSTART;VALUE=DATE:20251013
DTEND;VALUE=DATE:20251014
DTSTAMP:20260424T004741
CREATED:20240126T140117Z
LAST-MODIFIED:20250107T132800Z
UID:1988-1760313600-1760399999@japaneseswordmuseumthailand.com
SUMMARY:On the day of the death of King Rama 9
DESCRIPTION:October 13th is the day that Thai people shed tears and mourn the death of His Majesty King Bhumibol Adulyadej\, Rama IX and the government has designated October 13th of every year as a public holiday. for the Thai people to commemorate King Rama IX’s kindness towards his people throughout his reign
URL:https://japaneseswordmuseumthailand.com/event/on-the-day-of-the-death-of-king-rama-9/
CATEGORIES:อังกฤษ
END:VEVENT
BEGIN:VEVENT
DTSTART;VALUE=DATE:20251013
DTEND;VALUE=DATE:20251014
DTSTAMP:20260424T004741
CREATED:20240126T140132Z
LAST-MODIFIED:20250107T132743Z
UID:1987-1760313600-1760399999@japaneseswordmuseumthailand.com
SUMMARY:วันคล้ายวันสวรรคต ในหลวง ร.9
DESCRIPTION:13 ตุลาคม วันที่ประชาชนชาวไทยหลั่งน้ำตาและโศกเศร้ากับการสวรรรคตของพระบาทสมเด็จพระปรมิทรมหาภูมิพลอดุลยเดช รัชกาลที่ 9 และรัฐบาลได้กำหนดให้วันที่ 13 ตุลาคม ของทุกปี เป็นวันหยุดราชการ เพื่อให้ประชาชนชาวไทยได้น้อมรำลึกถึงพระมหากรุณาธิคุณของรัชกาลที่ 9 ที่มีต่อประชาชนของพระองค์ตลอดรัชสมัย
URL:https://japaneseswordmuseumthailand.com/event/%e0%b8%a7%e0%b8%b1%e0%b8%99%e0%b8%84%e0%b8%a5%e0%b9%89%e0%b8%b2%e0%b8%a2%e0%b8%a7%e0%b8%b1%e0%b8%99%e0%b8%aa%e0%b8%a7%e0%b8%a3%e0%b8%a3%e0%b8%84%e0%b8%95-%e0%b9%83%e0%b8%99%e0%b8%ab%e0%b8%a5-2/
CATEGORIES:ไทย
END:VEVENT
BEGIN:VEVENT
DTSTART;VALUE=DATE:20251018
DTEND;VALUE=DATE:20251019
DTSTAMP:20260424T004741
CREATED:20240126T135935Z
LAST-MODIFIED:20250107T132728Z
UID:1992-1760745600-1760831999@japaneseswordmuseumthailand.com
SUMMARY:the end of the Buddhist Lent
DESCRIPTION:The end of Buddhist Lent falls on the 15th day of the 11th lunar month\, marking the end of the Buddhist Lent period. Or leave the temple for 3 months of the monks
URL:https://japaneseswordmuseumthailand.com/event/the-end-of-the-buddhist-lent/
CATEGORIES:อังกฤษ
END:VEVENT
BEGIN:VEVENT
DTSTART;VALUE=DATE:20251018
DTEND;VALUE=DATE:20251019
DTSTAMP:20260424T004741
CREATED:20240126T135945Z
LAST-MODIFIED:20250107T132718Z
UID:1991-1760745600-1760831999@japaneseswordmuseumthailand.com
SUMMARY:วันออกพรรษา
DESCRIPTION:วันออกพรรษาตรงกับวันขึ้น 15 ค่ำ เดือน 11 ถือเป็นการสิ้นสุดระยะการจำพรรษา หรือออกจากการอยู่ประจำวัดตลอด 3 เดือน ของพระภิกษุสงฆ์
URL:https://japaneseswordmuseumthailand.com/event/%e0%b8%a7%e0%b8%b1%e0%b8%99%e0%b8%ad%e0%b8%ad%e0%b8%81%e0%b8%9e%e0%b8%a3%e0%b8%a3%e0%b8%a9%e0%b8%b2-2/
CATEGORIES:ไทย
END:VEVENT
BEGIN:VEVENT
DTSTART;VALUE=DATE:20251023
DTEND;VALUE=DATE:20251024
DTSTAMP:20260424T004741
CREATED:20230401T090202Z
LAST-MODIFIED:20250107T150352Z
UID:1443-1761177600-1761263999@japaneseswordmuseumthailand.com
SUMMARY:วันปิยมหาราช
DESCRIPTION:23 ตุลาคม ของทุกปี เป็นวันคล้ายวันสวรรคตของพระบาทสมเด็จพระจุลจอมเกล้าเจ้าอยู่หัว รัชกาลที่ 5 เพื่อน้อมรำลึกถึงพระมหากรุณาธิคุณของพระองค์ท่าน โดยพระราชกรณียกิจที่สำคัญของพระองค์คือ การเลิกทาส และการพัฒนาประเทศในด้านต่าง ๆ
URL:https://japaneseswordmuseumthailand.com/event/%e0%b8%a7%e0%b8%b1%e0%b8%99%e0%b8%9b%e0%b8%b4%e0%b8%a2%e0%b8%a1%e0%b8%ab%e0%b8%b2%e0%b8%a3%e0%b8%b2%e0%b8%8a/
CATEGORIES:ไทย
END:VEVENT
BEGIN:VEVENT
DTSTART;VALUE=DATE:20251023
DTEND;VALUE=DATE:20251024
DTSTAMP:20260424T004741
CREATED:20230408T130813Z
LAST-MODIFIED:20250107T150345Z
UID:1889-1761177600-1761263999@japaneseswordmuseumthailand.com
SUMMARY:Chulalongkorn Day
DESCRIPTION:October 23 of every year is the day to commemorate the death of King Chulalongkorn\, Rama V\, in remembrance of His Majesty’s benevolence. His royal duties are the abolition of slavery and the development of the country in various fields.
URL:https://japaneseswordmuseumthailand.com/event/chulalongkorn-day-2/
CATEGORIES:อังกฤษ
END:VEVENT
BEGIN:VEVENT
DTSTART;VALUE=DATE:20251023
DTEND;VALUE=DATE:20251024
DTSTAMP:20260424T004741
CREATED:20240126T140004Z
LAST-MODIFIED:20250107T132711Z
UID:1989-1761177600-1761263999@japaneseswordmuseumthailand.com
SUMMARY:วันปิยมหาราช
DESCRIPTION:23 ตุลาคม ของทุกปี เป็นวันคล้ายวันสวรรคตของพระบาทสมเด็จพระจุลจอมเกล้าเจ้าอยู่หัว รัชกาลที่ 5 เพื่อน้อมรำลึกถึงพระมหากรุณาธิคุณของพระองค์ท่าน โดยพระราชกรณียกิจที่สำคัญของพระองค์คือ การเลิกทาส และการพัฒนาประเทศในด้านต่าง ๆ
URL:https://japaneseswordmuseumthailand.com/event/%e0%b8%a7%e0%b8%b1%e0%b8%99%e0%b8%9b%e0%b8%b4%e0%b8%a2%e0%b8%a1%e0%b8%ab%e0%b8%b2%e0%b8%a3%e0%b8%b2%e0%b8%8a-2/
CATEGORIES:ไทย
END:VEVENT
BEGIN:VEVENT
DTSTART;VALUE=DATE:20251029
DTEND;VALUE=DATE:20251030
DTSTAMP:20260424T004741
CREATED:20230401T090236Z
LAST-MODIFIED:20250107T150338Z
UID:1445-1761696000-1761782399@japaneseswordmuseumthailand.com
SUMMARY:วันออกพรรษา
DESCRIPTION:วันออกพรรษาตรงกับวันขึ้น 15 ค่ำ เดือน 11 ถือเป็นการสิ้นสุดระยะการจำพรรษา หรือออกจากการอยู่ประจำวัดตลอด 3 เดือน ของพระภิกษุสงฆ์
URL:https://japaneseswordmuseumthailand.com/event/%e0%b8%a7%e0%b8%b1%e0%b8%99%e0%b8%ad%e0%b8%ad%e0%b8%81%e0%b8%9e%e0%b8%a3%e0%b8%a3%e0%b8%a9%e0%b8%b2/
CATEGORIES:ไทย
END:VEVENT
BEGIN:VEVENT
DTSTART;VALUE=DATE:20251029
DTEND;VALUE=DATE:20251030
DTSTAMP:20260424T004741
CREATED:20230408T130741Z
LAST-MODIFIED:20250107T150332Z
UID:1887-1761696000-1761782399@japaneseswordmuseumthailand.com
SUMMARY:the end of the Buddhist Lent
DESCRIPTION:The end of Buddhist Lent falls on the 15th day of the 11th lunar month\, marking the end of the Buddhist Lent period. Or leave the temple for 3 months of the monks
URL:https://japaneseswordmuseumthailand.com/event/the-end-of-the-buddhist-lent-2/
CATEGORIES:อังกฤษ
END:VEVENT
END:VCALENDAR