BEGIN:VCALENDAR
VERSION:2.0
PRODID:-//Japanswordmuseumthailand - ECPv6.3.1//NONSGML v1.0//EN
CALSCALE:GREGORIAN
METHOD:PUBLISH
X-WR-CALNAME:Japanswordmuseumthailand
X-ORIGINAL-URL:https://japaneseswordmuseumthailand.com
X-WR-CALDESC:Events for Japanswordmuseumthailand
REFRESH-INTERVAL;VALUE=DURATION:PT1H
X-Robots-Tag:noindex
X-PUBLISHED-TTL:PT1H
BEGIN:VTIMEZONE
TZID:Asia/Krasnoyarsk
BEGIN:STANDARD
TZOFFSETFROM:+0700
TZOFFSETTO:+0700
TZNAME:+07
DTSTART:20250101T000000
END:STANDARD
END:VTIMEZONE
BEGIN:VEVENT
DTSTART;VALUE=DATE:20250903
DTEND;VALUE=DATE:20250904
DTSTAMP:20260424T021741
CREATED:20230401T100516Z
LAST-MODIFIED:20250107T150658Z
UID:1485-1756857600-1756943999@japaneseswordmuseumthailand.com
SUMMARY:วันเคารพผู้สูงอายุ
DESCRIPTION:เป็นวันที่เคารพผู้สูงอายุและขอพรให้มีอายุยืนยาว
URL:https://japaneseswordmuseumthailand.com/event/%e0%b8%a7%e0%b8%b1%e0%b8%99%e0%b9%80%e0%b8%84%e0%b8%b2%e0%b8%a3%e0%b8%9e%e0%b8%9c%e0%b8%b9%e0%b9%89%e0%b8%aa%e0%b8%b9%e0%b8%87%e0%b8%ad%e0%b8%b2%e0%b8%a2%e0%b8%b8/
CATEGORIES:ญี่ปุ่น
END:VEVENT
BEGIN:VEVENT
DTSTART;VALUE=DATE:20250903
DTEND;VALUE=DATE:20250904
DTSTAMP:20260424T021741
CREATED:20230408T131335Z
LAST-MODIFIED:20250107T150651Z
UID:1904-1756857600-1756943999@japaneseswordmuseumthailand.com
SUMMARY:honoring the elderly day
DESCRIPTION:It is a day to respect the elderly and pray for longevity.
URL:https://japaneseswordmuseumthailand.com/event/honoring-the-elderly-day-2/
CATEGORIES:อังกฤษ
END:VEVENT
BEGIN:VEVENT
DTSTART;VALUE=DATE:20250920
DTEND;VALUE=DATE:20250921
DTSTAMP:20260424T021741
CREATED:20230401T090027Z
LAST-MODIFIED:20250107T150644Z
UID:1437-1758326400-1758412799@japaneseswordmuseumthailand.com
SUMMARY:วันเยาวชนแห่งชาติ
DESCRIPTION:วันเยาวชนแห่งชาติตรงกับวันที่ 20 กันยายน ของทุกปี ทั้งนี้วันเยาวชนแห่งชาติมีขึ้นเพื่อให้เยาวชนในช่วงอายุ 15-25 ปี ได้ตระหนักถึงความสำคัญของการพัฒนาตนเอง ชุมชน และประเทศชาติ อีกอย่างวันที่ 20 กันยายนยังเป็นวันที่มีความเป็นสิริมงคลยิ่ง เนื่องด้วยเป็นวันคล้ายวันพระราชสมภพของพระมหากษัตริย์แห่งราชวงศ์จักรีถึงสองพระองค์คือ พระบาทสมเด็จพระจุลจอมเกล้าเจ้าอยู่หัว รัชกาลที่ 5 และพระบาทสมเด็จพระเจ้าอยู่หัวอนันทมหิดล รัชกาลที่ 8 ซึ่งทั้งสองพระองค์นอกจากจะทรงครองราชย์สมบัติตั้งแต่ทรงพระเยาว์แล้ว ยังทรงพระปรีชาสามารถยิ่ง สมควรที่เยาวชนไทยจะเจริญรอยตามเบื้องยุคลบาท
URL:https://japaneseswordmuseumthailand.com/event/%e0%b8%a7%e0%b8%b1%e0%b8%99%e0%b9%80%e0%b8%a2%e0%b8%b2%e0%b8%a7%e0%b8%8a%e0%b8%99%e0%b9%81%e0%b8%ab%e0%b9%88%e0%b8%87%e0%b8%8a%e0%b8%b2%e0%b8%95%e0%b8%b4/
CATEGORIES:ไทย
END:VEVENT
BEGIN:VEVENT
DTSTART;VALUE=DATE:20250920
DTEND;VALUE=DATE:20250921
DTSTAMP:20260424T021741
CREATED:20230408T131310Z
LAST-MODIFIED:20250107T150637Z
UID:1902-1758326400-1758412799@japaneseswordmuseumthailand.com
SUMMARY:national youth day
DESCRIPTION:National Youth Day falls on September 20 of every year. National Youth Day is intended for young people aged 15-25 to realize the importance of developing themselves\, their communities and the nation. In addition\, September 20th is also a very auspicious day. As it is the birthday of two Kings of the Chakri dynasty\, Two of them are King Chulalongkorn\, Rama 5 and King Ananda Mahidol\, Rama 8\, both of whom\, in addition to reigning treasures since they were young. His Majesty is also more able It is appropriate for Thai youth to follow in the footsteps of the royal family.
URL:https://japaneseswordmuseumthailand.com/event/national-youth-day-2/
CATEGORIES:อังกฤษ
END:VEVENT
BEGIN:VEVENT
DTSTART;VALUE=DATE:20250920
DTEND;VALUE=DATE:20250921
DTSTAMP:20260424T021741
CREATED:20240126T140145Z
LAST-MODIFIED:20250107T132820Z
UID:1986-1758326400-1758412799@japaneseswordmuseumthailand.com
SUMMARY:national youth day
DESCRIPTION:National Youth Day falls on September 20 of every year. National Youth Day is intended for young people aged 15-25 to realize the importance of developing themselves\, their communities and the nation. In addition\, September 20th is also a very auspicious day. As it is the birthday of two Kings of the Chakri dynasty\, Two of them are King Chulalongkorn\, Rama 5 and King Ananda Mahidol\, Rama 8\, both of whom\, in addition to reigning treasures since they were young. His Majesty is also more able It is appropriate for Thai youth to follow in the footsteps of the royal family.
URL:https://japaneseswordmuseumthailand.com/event/national-youth-day/
CATEGORIES:อังกฤษ
END:VEVENT
BEGIN:VEVENT
DTSTART;VALUE=DATE:20250920
DTEND;VALUE=DATE:20250921
DTSTAMP:20260424T021741
CREATED:20240126T140155Z
LAST-MODIFIED:20250107T132811Z
UID:1985-1758326400-1758412799@japaneseswordmuseumthailand.com
SUMMARY:วันเยาวชนแห่งชาติ
DESCRIPTION:วันเยาวชนแห่งชาติตรงกับวันที่ 20 กันยายน ของทุกปี ทั้งนี้วันเยาวชนแห่งชาติมีขึ้นเพื่อให้เยาวชนในช่วงอายุ 15-25 ปี ได้ตระหนักถึงความสำคัญของการพัฒนาตนเอง ชุมชน และประเทศชาติ อีกอย่างวันที่ 20 กันยายนยังเป็นวันที่มีความเป็นสิริมงคลยิ่ง เนื่องด้วยเป็นวันคล้ายวันพระราชสมภพของพระมหากษัตริย์แห่งราชวงศ์จักรีถึงสองพระองค์คือ พระบาทสมเด็จพระจุลจอมเกล้าเจ้าอยู่หัว รัชกาลที่ 5 และพระบาทสมเด็จพระเจ้าอยู่หัวอนันทมหิดล รัชกาลที่ 8 ซึ่งทั้งสองพระองค์นอกจากจะทรงครองราชย์สมบัติตั้งแต่ทรงพระเยาว์แล้ว ยังทรงพระปรีชาสามารถยิ่ง สมควรที่เยาวชนไทยจะเจริญรอยตามเบื้องยุคลบาท
URL:https://japaneseswordmuseumthailand.com/event/%e0%b8%a7%e0%b8%b1%e0%b8%99%e0%b9%80%e0%b8%a2%e0%b8%b2%e0%b8%a7%e0%b8%8a%e0%b8%99%e0%b9%81%e0%b8%ab%e0%b9%88%e0%b8%87%e0%b8%8a%e0%b8%b2%e0%b8%95%e0%b8%b4-2/
CATEGORIES:ไทย
END:VEVENT
BEGIN:VEVENT
DTSTART;TZID=Asia/Krasnoyarsk:20250922T000000
DTEND;TZID=Asia/Krasnoyarsk:20250923T000000
DTSTAMP:20260424T021741
CREATED:20230401T100605Z
LAST-MODIFIED:20250107T150630Z
UID:1487-1758499200-1758585600@japaneseswordmuseumthailand.com
SUMMARY:วันศารทวิษุวัติ
DESCRIPTION:ที่ญี่ปุ่นกำหนดให้วันที่เวลาของกลางวันและกลางคืนยาวเท่ากันเป็นวันหยุดตามกฎหมาย
URL:https://japaneseswordmuseumthailand.com/event/%e0%b8%a7%e0%b8%b1%e0%b8%99%e0%b8%a8%e0%b8%b2%e0%b8%a3%e0%b8%97%e0%b8%a7%e0%b8%b4%e0%b8%a9%e0%b8%b8%e0%b8%a7%e0%b8%b1%e0%b8%95%e0%b8%b4/
CATEGORIES:ญี่ปุ่น
END:VEVENT
BEGIN:VEVENT
DTSTART;VALUE=DATE:20250922
DTEND;VALUE=DATE:20250924
DTSTAMP:20260424T021741
CREATED:20230408T131244Z
LAST-MODIFIED:20250107T150623Z
UID:1900-1758499200-1758671999@japaneseswordmuseumthailand.com
SUMMARY:equinox day
DESCRIPTION:In Japan\, days when the day and night are equal in length are legal holidays.
URL:https://japaneseswordmuseumthailand.com/event/equinox-day-2/
CATEGORIES:อังกฤษ
END:VEVENT
BEGIN:VEVENT
DTSTART;VALUE=DATE:20250924
DTEND;VALUE=DATE:20250925
DTSTAMP:20260424T021741
CREATED:20230401T090053Z
LAST-MODIFIED:20250107T150616Z
UID:1439-1758672000-1758758399@japaneseswordmuseumthailand.com
SUMMARY:วันมหิดล
DESCRIPTION:วันมหิดลตรงกับวันที่ 24 กันยายน ของทุกปี และตรงกับวันคล้ายวันสวรรคตของสมเด็จพระมหิตลาธิเบศร อดุลยเดชวิกรม พระบรมราชชนก ผู้ทรงเป็นบิดาแห่งการแพทย์แผนปัจจุบันของไทย
URL:https://japaneseswordmuseumthailand.com/event/%e0%b8%a7%e0%b8%b1%e0%b8%99%e0%b8%a1%e0%b8%ab%e0%b8%b4%e0%b8%94%e0%b8%a5/
CATEGORIES:ไทย
END:VEVENT
BEGIN:VEVENT
DTSTART;VALUE=DATE:20250924
DTEND;VALUE=DATE:20250925
DTSTAMP:20260424T021741
CREATED:20230408T131213Z
LAST-MODIFIED:20250107T150609Z
UID:1898-1758672000-1758758399@japaneseswordmuseumthailand.com
SUMMARY:Mahidol Day
DESCRIPTION:Mahidol Day falls on September 24 of every year and coincides with the death anniversary of His Majesty King Mahidol Adulyadej. Adulyadejvikrom Phra Boromrajchanok\, father of modern Thai medicine
URL:https://japaneseswordmuseumthailand.com/event/mahidol-day-2/
CATEGORIES:อังกฤษ
END:VEVENT
END:VCALENDAR