BEGIN:VCALENDAR
VERSION:2.0
PRODID:-//Japanswordmuseumthailand - ECPv6.3.1//NONSGML v1.0//EN
CALSCALE:GREGORIAN
METHOD:PUBLISH
X-WR-CALNAME:Japanswordmuseumthailand
X-ORIGINAL-URL:https://japaneseswordmuseumthailand.com
X-WR-CALDESC:Events for Japanswordmuseumthailand
REFRESH-INTERVAL;VALUE=DURATION:PT1H
X-Robots-Tag:noindex
X-PUBLISHED-TTL:PT1H
BEGIN:VTIMEZONE
TZID:Asia/Krasnoyarsk
BEGIN:STANDARD
TZOFFSETFROM:+0700
TZOFFSETTO:+0700
TZNAME:+07
DTSTART:20250101T000000
END:STANDARD
END:VTIMEZONE
BEGIN:VEVENT
DTSTART;VALUE=DATE:20250703
DTEND;VALUE=DATE:20250704
DTSTAMP:20260424T050414
CREATED:20230401T100420Z
LAST-MODIFIED:20250107T150945Z
UID:1481-1751500800-1751587199@japaneseswordmuseumthailand.com
SUMMARY:วันแห่งทะเล
DESCRIPTION:เป็นวันขอบคุณพระคุณของทะเลญี่ปุ่น
URL:https://japaneseswordmuseumthailand.com/event/%e0%b8%a7%e0%b8%b1%e0%b8%99%e0%b9%81%e0%b8%ab%e0%b9%88%e0%b8%87%e0%b8%97%e0%b8%b0%e0%b9%80%e0%b8%a5/
CATEGORIES:ญี่ปุ่น
END:VEVENT
BEGIN:VEVENT
DTSTART;VALUE=DATE:20250703
DTEND;VALUE=DATE:20250704
DTSTAMP:20260424T050414
CREATED:20230408T124437Z
LAST-MODIFIED:20250107T150939Z
UID:1823-1751500800-1751587199@japaneseswordmuseumthailand.com
SUMMARY:day of the sea
DESCRIPTION:It’s Thanksgiving Day of the Sea of ​​Japan.
URL:https://japaneseswordmuseumthailand.com/event/day-of-the-sea-2/
CATEGORIES:อังกฤษ
END:VEVENT
BEGIN:VEVENT
DTSTART;VALUE=DATE:20250703
DTEND;VALUE=DATE:20250704
DTSTAMP:20260424T050414
CREATED:20240126T135130Z
LAST-MODIFIED:20250107T145335Z
UID:1972-1751500800-1751587199@japaneseswordmuseumthailand.com
SUMMARY:day of the sea
DESCRIPTION:It’s Thanksgiving Day of the Sea of ​​Japan.
URL:https://japaneseswordmuseumthailand.com/event/day-of-the-sea/
CATEGORIES:อังกฤษ
END:VEVENT
BEGIN:VEVENT
DTSTART;VALUE=DATE:20250703
DTEND;VALUE=DATE:20250704
DTSTAMP:20260424T050414
CREATED:20240126T135150Z
LAST-MODIFIED:20250107T145319Z
UID:1971-1751500800-1751587199@japaneseswordmuseumthailand.com
SUMMARY:วันแห่งทะเล
DESCRIPTION:เป็นวันขอบคุณพระคุณของทะเลญี่ปุ่น
URL:https://japaneseswordmuseumthailand.com/event/%e0%b8%a7%e0%b8%b1%e0%b8%99%e0%b9%81%e0%b8%ab%e0%b9%88%e0%b8%87%e0%b8%97%e0%b8%b0%e0%b9%80%e0%b8%a5-2/
CATEGORIES:ญี่ปุ่น
END:VEVENT
BEGIN:VEVENT
DTSTART;VALUE=DATE:20250721
DTEND;VALUE=DATE:20250722
DTSTAMP:20260424T050414
CREATED:20240126T140348Z
LAST-MODIFIED:20250107T145309Z
UID:1979-1753056000-1753142399@japaneseswordmuseumthailand.com
SUMMARY:วันเข้าพรรษา
DESCRIPTION:เป็นวันเริ่มต้นที่พระภิกษุสงฆ์จะต้องอธิษฐานจำพรรษาอยู่กับที่ ไม่เที่ยวจาริกไปยังที่ต่าง ๆ เป็นเวลา 3 เดือน นับตั้งแต่วันแรม 1 ค่ำเดือน 8 ถึงวันขึ้น 15 ค่ำเดือน 11 ของทุกปี ซึ่งการให้จำพรรษาในสมัยพุทธกาล ก็เพื่อป้องกันมิให้พระสงฆ์ไปเหยียบย่ำข้าว และพืชผลของชาวบ้านเสียหาย ต่อมาถือเป็นโอกาสดีที่พระภิกษุจะได้มาอยู่ร่วมกันเพื่อศึกษาธรรมะ  และในปัจจุบันก็มีการรณรงค์ให้วันเข้าพรรษาเป็นช่วงงดเหล้า พักตับ กันด้วย
URL:https://japaneseswordmuseumthailand.com/event/%e0%b8%a7%e0%b8%b1%e0%b8%99%e0%b9%80%e0%b8%82%e0%b9%89%e0%b8%b2%e0%b8%9e%e0%b8%a3%e0%b8%a3%e0%b8%a9%e0%b8%b2-2/
CATEGORIES:ไทย
END:VEVENT
BEGIN:VEVENT
DTSTART;VALUE=DATE:20250728
DTEND;VALUE=DATE:20250729
DTSTAMP:20260424T050414
CREATED:20230401T085557Z
LAST-MODIFIED:20250107T150932Z
UID:1429-1753660800-1753747199@japaneseswordmuseumthailand.com
SUMMARY:วันพระบรมราชสมภพสมเด็จพระเจ้าอยู่หัวมหาวชิราลงกรณบดินทรเทพยวรางกูร
DESCRIPTION:วันที่ 28 กรกฎาคม ของทุกปี เป็นวันคล้ายวันพระบรมราชสมภพสมเด็จพระเจ้าอยู่หัวมหาวชิราลงกรณบดินทรเทพยวรางกูร พระราชโอรสเพียงพระองค์เดียวในพระบาทสมเด็จพระปรมินทรมหาภูมิพลอดุลยเดช บรมนาถบพิตร รัชกาลที่ 9 และสมเด็จพระนางเจ้าสิริกิติ์ พระบรมราชินีนาถ อีกทั้งยังทรงเป็นสมเด็จพระเจ้าอยู่หัวรัชกาลที่ 10 พระมหากษัตริย์รัชกาลปัจจุบันของไทย
URL:https://japaneseswordmuseumthailand.com/event/%e0%b8%a7%e0%b8%b1%e0%b8%99%e0%b8%9e%e0%b8%a3%e0%b8%b0%e0%b8%9a%e0%b8%a3%e0%b8%a1%e0%b8%a3%e0%b8%b2%e0%b8%8a%e0%b8%aa%e0%b8%a1%e0%b8%a0%e0%b8%9e%e0%b8%aa%e0%b8%a1%e0%b9%80%e0%b8%94%e0%b9%87%e0%b8%88/
CATEGORIES:ไทย
END:VEVENT
BEGIN:VEVENT
DTSTART;VALUE=DATE:20250728
DTEND;VALUE=DATE:20250729
DTSTAMP:20260424T050414
CREATED:20230408T124401Z
LAST-MODIFIED:20250107T150924Z
UID:1821-1753660800-1753747199@japaneseswordmuseumthailand.com
SUMMARY:Birthday of His Majesty King Maha Vajiralongkorn Bodindradebayavarangkun
DESCRIPTION:July 28 of every year is the birthday of His Majesty King Maha Vajiralongkorn Bodindradebayavarangkun. The only son of His Majesty King Bhumibol Adulyadej\, Rama IX and Her Majesty Queen Sirikit. the queen He is also the King Rama 10\, the current monarch of Thailand.
URL:https://japaneseswordmuseumthailand.com/event/birthday-of-his-majesty-king-maha-vajiralongkorn-bodindradebayavarangkun-2/
CATEGORIES:อังกฤษ
END:VEVENT
BEGIN:VEVENT
DTSTART;VALUE=DATE:20250728
DTEND;VALUE=DATE:20250729
DTSTAMP:20260424T050414
CREATED:20240126T140453Z
LAST-MODIFIED:20250107T145258Z
UID:1974-1753660800-1753747199@japaneseswordmuseumthailand.com
SUMMARY:Birthday of His Majesty King Maha Vajiralongkorn Bodindradebayavarangkun
DESCRIPTION:July 28 of every year is the birthday of His Majesty King Maha Vajiralongkorn Bodindradebayavarangkun. The only son of His Majesty King Bhumibol Adulyadej\, Rama IX and Her Majesty Queen Sirikit. the queen He is also the King Rama 10\, the current monarch of Thailand.
URL:https://japaneseswordmuseumthailand.com/event/birthday-of-his-majesty-king-maha-vajiralongkorn-bodindradebayavarangkun/
CATEGORIES:อังกฤษ
END:VEVENT
BEGIN:VEVENT
DTSTART;VALUE=DATE:20250728
DTEND;VALUE=DATE:20250729
DTSTAMP:20260424T050414
CREATED:20240126T140506Z
LAST-MODIFIED:20250107T142024Z
UID:1973-1753660800-1753747199@japaneseswordmuseumthailand.com
SUMMARY:วันพระบรมราชสมภพสมเด็จพระเจ้าอยู่หัวมหาวชิราลงกรณบดินทรเทพยวรางกูร
DESCRIPTION:วันที่ 28 กรกฎาคม ของทุกปี เป็นวันคล้ายวันพระบรมราชสมภพสมเด็จพระเจ้าอยู่หัวมหาวชิราลงกรณบดินทรเทพยวรางกูร พระราชโอรสเพียงพระองค์เดียวในพระบาทสมเด็จพระปรมินทรมหาภูมิพลอดุลยเดช บรมนาถบพิตร รัชกาลที่ 9 และสมเด็จพระนางเจ้าสิริกิติ์ พระบรมราชินีนาถ อีกทั้งยังทรงเป็นสมเด็จพระเจ้าอยู่หัวรัชกาลที่ 10 พระมหากษัตริย์รัชกาลปัจจุบันของไทย
URL:https://japaneseswordmuseumthailand.com/event/%e0%b8%a7%e0%b8%b1%e0%b8%99%e0%b8%9e%e0%b8%a3%e0%b8%b0%e0%b8%9a%e0%b8%a3%e0%b8%a1%e0%b8%a3%e0%b8%b2%e0%b8%8a%e0%b8%aa%e0%b8%a1%e0%b8%a0%e0%b8%9e%e0%b8%aa%e0%b8%a1%e0%b9%80%e0%b8%94%e0%b9%87%e0%b8%88-2/
CATEGORIES:ไทย
END:VEVENT
BEGIN:VEVENT
DTSTART;VALUE=DATE:20250729
DTEND;VALUE=DATE:20250730
DTSTAMP:20260424T050414
CREATED:20230401T085624Z
LAST-MODIFIED:20250107T150917Z
UID:1431-1753747200-1753833599@japaneseswordmuseumthailand.com
SUMMARY:วันภาษาไทยแห่งชาติ
DESCRIPTION:วันภาษาไทยแห่งชาติ ตรงกับวันที่ 29 กรกฎาคม ของทุกปี มีขึ้นเพื่อให้ประชาชนชาวไทยร่วมกันอนุรักษ์และใช้ภาษาไทยอย่างถูกต้อง คงไว้ให้เป็นมรดกอันทรงคุณค่าของประเทศ
URL:https://japaneseswordmuseumthailand.com/event/%e0%b8%a7%e0%b8%b1%e0%b8%99%e0%b8%a0%e0%b8%b2%e0%b8%a9%e0%b8%b2%e0%b9%84%e0%b8%97%e0%b8%a2%e0%b9%81%e0%b8%ab%e0%b9%88%e0%b8%87%e0%b8%8a%e0%b8%b2%e0%b8%95%e0%b8%b4/
CATEGORIES:ไทย
END:VEVENT
BEGIN:VEVENT
DTSTART;VALUE=DATE:20250729
DTEND;VALUE=DATE:20250730
DTSTAMP:20260424T050414
CREATED:20230408T124334Z
LAST-MODIFIED:20250107T150904Z
UID:1819-1753747200-1753833599@japaneseswordmuseumthailand.com
SUMMARY:National Thai Language Day
DESCRIPTION:National Thai Language Day falls on July 29th of every year for Thai people to conserve and use the correct Thai language. preserved as a valuable heritage of the country
URL:https://japaneseswordmuseumthailand.com/event/national-thai-language-day-2/
CATEGORIES:อังกฤษ
END:VEVENT
BEGIN:VEVENT
DTSTART;VALUE=DATE:20250729
DTEND;VALUE=DATE:20250730
DTSTAMP:20260424T050414
CREATED:20240126T140435Z
LAST-MODIFIED:20250107T140840Z
UID:1976-1753747200-1753833599@japaneseswordmuseumthailand.com
SUMMARY:National Thai Language Day
DESCRIPTION:National Thai Language Day falls on July 29th of every year for Thai people to conserve and use the correct Thai language. preserved as a valuable heritage of the country
URL:https://japaneseswordmuseumthailand.com/event/national-thai-language-day/
CATEGORIES:อังกฤษ
END:VEVENT
BEGIN:VEVENT
DTSTART;VALUE=DATE:20250729
DTEND;VALUE=DATE:20250730
DTSTAMP:20260424T050414
CREATED:20240126T140444Z
LAST-MODIFIED:20250107T140832Z
UID:1975-1753747200-1753833599@japaneseswordmuseumthailand.com
SUMMARY:วันภาษาไทยแห่งชาติ
DESCRIPTION:วันภาษาไทยแห่งชาติ ตรงกับวันที่ 29 กรกฎาคม ของทุกปี มีขึ้นเพื่อให้ประชาชนชาวไทยร่วมกันอนุรักษ์และใช้ภาษาไทยอย่างถูกต้อง คงไว้ให้เป็นมรดกอันทรงคุณค่าของประเทศ
URL:https://japaneseswordmuseumthailand.com/event/%e0%b8%a7%e0%b8%b1%e0%b8%99%e0%b8%a0%e0%b8%b2%e0%b8%a9%e0%b8%b2%e0%b9%84%e0%b8%97%e0%b8%a2%e0%b9%81%e0%b8%ab%e0%b9%88%e0%b8%87%e0%b8%8a%e0%b8%b2%e0%b8%95%e0%b8%b4-2/
CATEGORIES:ไทย
END:VEVENT
END:VCALENDAR