BEGIN:VCALENDAR
VERSION:2.0
PRODID:-//Japanswordmuseumthailand - ECPv6.3.1//NONSGML v1.0//EN
CALSCALE:GREGORIAN
METHOD:PUBLISH
X-WR-CALNAME:Japanswordmuseumthailand
X-ORIGINAL-URL:https://japaneseswordmuseumthailand.com
X-WR-CALDESC:Events for Japanswordmuseumthailand
REFRESH-INTERVAL;VALUE=DURATION:PT1H
X-Robots-Tag:noindex
X-PUBLISHED-TTL:PT1H
BEGIN:VTIMEZONE
TZID:Asia/Krasnoyarsk
BEGIN:STANDARD
TZOFFSETFROM:+0700
TZOFFSETTO:+0700
TZNAME:+07
DTSTART:20230101T000000
END:STANDARD
END:VTIMEZONE
BEGIN:VEVENT
DTSTART;VALUE=DATE:20250101
DTEND;VALUE=DATE:20250102
DTSTAMP:20260424T233413
CREATED:20240126T133833Z
LAST-MODIFIED:20250107T145757Z
UID:1942-1735689600-1735775999@japaneseswordmuseumthailand.com
SUMMARY:New Year's Day
DESCRIPTION:The first day of the year according to the Thai solar calendar and the Gregorian calendar. Celebrated the beginning of the New Year in 1889–1941. This day is held on April 1.
URL:https://japaneseswordmuseumthailand.com/event/new-years-day-2/
CATEGORIES:อังกฤษ
END:VEVENT
BEGIN:VEVENT
DTSTART;VALUE=DATE:20250101
DTEND;VALUE=DATE:20250102
DTSTAMP:20260424T233413
CREATED:20240126T133611Z
LAST-MODIFIED:20250107T145804Z
UID:1940-1735689600-1735775999@japaneseswordmuseumthailand.com
SUMMARY:วันปีใหม่
DESCRIPTION:ในช่วงเย็นวันที่ 31 ธันวาคม หรือเช้าวันที่ 1 มกราคม จะไปสักการะขอพรที่วัดหรือศาลเจ้าเพื่อเฉลิมฉลองวันขึ้นปีใหม่
URL:https://japaneseswordmuseumthailand.com/event/%e0%b8%a7%e0%b8%b1%e0%b8%99%e0%b8%9b%e0%b8%b5%e0%b9%83%e0%b8%ab%e0%b8%a1%e0%b9%88-2/
CATEGORIES:ญี่ปุ่น
END:VEVENT
BEGIN:VEVENT
DTSTART;VALUE=DATE:20250101
DTEND;VALUE=DATE:20250102
DTSTAMP:20260424T233413
CREATED:20230408T130708Z
LAST-MODIFIED:20250107T151951Z
UID:1885-1735689600-1735775999@japaneseswordmuseumthailand.com
SUMMARY:New Year's Day
DESCRIPTION:The first day of the year according to the Thai solar calendar and the Gregorian calendar. Celebrated the beginning of the New Year in 1889–1941. This day is held on April 1.
URL:https://japaneseswordmuseumthailand.com/event/new-years-day/
CATEGORIES:อังกฤษ
END:VEVENT
BEGIN:VEVENT
DTSTART;VALUE=DATE:20250101
DTEND;VALUE=DATE:20250102
DTSTAMP:20260424T233413
CREATED:20230401T092217Z
LAST-MODIFIED:20250107T152001Z
UID:1463-1735689600-1735775999@japaneseswordmuseumthailand.com
SUMMARY:วันปีใหม่
DESCRIPTION:ในช่วงเย็นวันที่ 31 ธันวาคม หรือเช้าวันที่ 1 มกราคม จะไปสักการะขอพรที่วัดหรือศาลเจ้าเพื่อเฉลิมฉลองวันขึ้นปีใหม่
URL:https://japaneseswordmuseumthailand.com/event/%e0%b8%a7%e0%b8%b1%e0%b8%99%e0%b8%9b%e0%b8%b5%e0%b9%83%e0%b8%ab%e0%b8%a1%e0%b9%88/
CATEGORIES:ญี่ปุ่น
END:VEVENT
BEGIN:VEVENT
DTSTART;VALUE=DATE:20250101
DTEND;VALUE=DATE:20250102
DTSTAMP:20260424T233413
CREATED:20230307T041916Z
LAST-MODIFIED:20250107T152007Z
UID:1233-1735689600-1735775999@japaneseswordmuseumthailand.com
SUMMARY:วันขึ้นปีใหม่
DESCRIPTION:วันแรกของปีตามปฏิทินสุริยคติไทยและปฏิทินกริกอเรียน เฉลิมฉลองวันเริ่มต้นปีใหม่ ใน พ.ศ. 2432–2484 วันนี้จัดขึ้นในวันที่ 1 เมษายน
URL:https://japaneseswordmuseumthailand.com/event/%e0%b8%a7%e0%b8%b1%e0%b8%99%e0%b8%82%e0%b8%b6%e0%b9%89%e0%b8%99%e0%b8%9b%e0%b8%b5%e0%b9%83%e0%b8%ab%e0%b8%a1%e0%b9%88/
CATEGORIES:ไทย
END:VEVENT
BEGIN:VEVENT
DTSTART;VALUE=DATE:20241023
DTEND;VALUE=DATE:20241024
DTSTAMP:20260424T233413
CREATED:20240126T135955Z
LAST-MODIFIED:20240126T135955Z
UID:1990-1729641600-1729727999@japaneseswordmuseumthailand.com
SUMMARY:Chulalongkorn Day
DESCRIPTION:October 23 of every year is the day to commemorate the death of King Chulalongkorn\, Rama V\, in remembrance of His Majesty’s benevolence. His royal duties are the abolition of slavery and the development of the country in various fields.
URL:https://japaneseswordmuseumthailand.com/event/chulalongkorn-day/
CATEGORIES:อังกฤษ
END:VEVENT
BEGIN:VEVENT
DTSTART;VALUE=DATE:20230402
DTEND;VALUE=DATE:20230403
DTSTAMP:20260424T233413
CREATED:20230408T125915Z
LAST-MODIFIED:20230408T125915Z
UID:1857-1680393600-1680479999@japaneseswordmuseumthailand.com
SUMMARY:It's a natural thank you day.
DESCRIPTION:April 2 of every year is the birthday of HRH Princess Maha Chakri Sirindhorn. Princess Maha Chakri Sirindhorn And the cabinet also has a resolution to make today the Thai Heritage Conservation Day. to honor and appreciate His Majesty’s benevolence that His Highness performed his duties in the preservation and continuation of the national cultural heritage In addition\, today there is also a campaign for people to have understanding. Conscience of love and cherish the artistic heritage of the nation as well
URL:https://japaneseswordmuseumthailand.com/event/its-a-natural-thank-you-day-2/
CATEGORIES:อังกฤษ
END:VEVENT
END:VCALENDAR