BEGIN:VCALENDAR
VERSION:2.0
PRODID:-//Japanswordmuseumthailand - ECPv6.3.1//NONSGML v1.0//EN
CALSCALE:GREGORIAN
METHOD:PUBLISH
X-ORIGINAL-URL:https://japaneseswordmuseumthailand.com
X-WR-CALDESC:Events for Japanswordmuseumthailand
REFRESH-INTERVAL;VALUE=DURATION:PT1H
X-Robots-Tag:noindex
X-PUBLISHED-TTL:PT1H
BEGIN:VTIMEZONE
TZID:Asia/Krasnoyarsk
BEGIN:STANDARD
TZOFFSETFROM:+0700
TZOFFSETTO:+0700
TZNAME:+07
DTSTART:20250101T000000
END:STANDARD
END:VTIMEZONE
BEGIN:VEVENT
DTSTART;VALUE=DATE:20250503
DTEND;VALUE=DATE:20250504
DTSTAMP:20260422T201327
CREATED:20240126T135323Z
LAST-MODIFIED:20250107T145443Z
UID:1963-1746230400-1746316799@japaneseswordmuseumthailand.com
SUMMARY:วันรัฐธรรมนูญ
DESCRIPTION:เป็นวันที่ระลึกถึงการบัญญัติรัฐธรรมนูญแห่งประเทศญี่ปุ่นในปัจจุบัน
URL:https://japaneseswordmuseumthailand.com/event/%e0%b8%a7%e0%b8%b1%e0%b8%99%e0%b8%a3%e0%b8%b1%e0%b8%90%e0%b8%98%e0%b8%a3%e0%b8%a3%e0%b8%a1%e0%b8%99%e0%b8%b9%e0%b8%8d-3/
CATEGORIES:ญี่ปุ่น
END:VEVENT
BEGIN:VEVENT
DTSTART;VALUE=DATE:20250503
DTEND;VALUE=DATE:20250504
DTSTAMP:20260422T201327
CREATED:20230401T100207Z
LAST-MODIFIED:20250107T151237Z
UID:1475-1746230400-1746316799@japaneseswordmuseumthailand.com
SUMMARY:วันรัฐธรรมนูญ
DESCRIPTION:เป็นวันที่ระลึกถึงการบัญญัติรัฐธรรมนูญแห่งประเทศญี่ปุ่นในปัจจุบัน
URL:https://japaneseswordmuseumthailand.com/event/%e0%b8%a7%e0%b8%b1%e0%b8%99%e0%b8%a3%e0%b8%b1%e0%b8%90%e0%b8%98%e0%b8%a3%e0%b8%a3%e0%b8%a1%e0%b8%99%e0%b8%b9%e0%b8%8d-2/
CATEGORIES:ญี่ปุ่น
END:VEVENT
BEGIN:VEVENT
DTSTART;VALUE=DATE:20250429
DTEND;VALUE=DATE:20250430
DTSTAMP:20260422T201327
CREATED:20240126T135349Z
LAST-MODIFIED:20250107T145544Z
UID:1961-1745884800-1745971199@japaneseswordmuseumthailand.com
SUMMARY:วันโชวะ
DESCRIPTION:เป็นวันที่ระลึกถึงการขึ้นครองราชย์ของสมเด็จพระจักรพรรดิฮิโรฮิโตะ ซึ่งรู้จักกันในพระนามสมเด็จพระจักรพรรดิโชวะ
URL:https://japaneseswordmuseumthailand.com/event/%e0%b8%a7%e0%b8%b1%e0%b8%99%e0%b9%82%e0%b8%8a%e0%b8%a7%e0%b8%b0-2/
CATEGORIES:ญี่ปุ่น
END:VEVENT
BEGIN:VEVENT
DTSTART;VALUE=DATE:20250429
DTEND;VALUE=DATE:20250430
DTSTAMP:20260422T201327
CREATED:20230401T100121Z
LAST-MODIFIED:20250107T151251Z
UID:1473-1745884800-1745971199@japaneseswordmuseumthailand.com
SUMMARY:วันโชวะ
DESCRIPTION:เป็นวันที่ระลึกถึงการขึ้นครองราชย์ของสมเด็จพระจักรพรรดิฮิโรฮิโตะ ซึ่งรู้จักกันในพระนามสมเด็จพระจักรพรรดิโชวะ
URL:https://japaneseswordmuseumthailand.com/event/%e0%b8%a7%e0%b8%b1%e0%b8%99%e0%b9%82%e0%b8%8a%e0%b8%a7%e0%b8%b0/
CATEGORIES:ญี่ปุ่น
END:VEVENT
BEGIN:VEVENT
DTSTART;VALUE=DATE:20250405
DTEND;VALUE=DATE:20250406
DTSTAMP:20260422T201327
CREATED:20240126T135538Z
LAST-MODIFIED:20250107T145651Z
UID:1956-1743811200-1743897599@japaneseswordmuseumthailand.com
SUMMARY:วันเด็ก
DESCRIPTION:เป็นวันขอพรให้เด็กๆ เติบโตอย่างแข็งแรงและมีความสุข
URL:https://japaneseswordmuseumthailand.com/event/%e0%b8%a7%e0%b8%b1%e0%b8%99%e0%b9%80%e0%b8%94%e0%b9%87%e0%b8%81-2/
CATEGORIES:ญี่ปุ่น
END:VEVENT
BEGIN:VEVENT
DTSTART;VALUE=DATE:20250405
DTEND;VALUE=DATE:20250406
DTSTAMP:20260422T201327
CREATED:20230401T100344Z
LAST-MODIFIED:20250107T151416Z
UID:1479-1743811200-1743897599@japaneseswordmuseumthailand.com
SUMMARY:วันเด็ก
DESCRIPTION:เป็นวันขอพรให้เด็กๆ เติบโตอย่างแข็งแรงและมีความสุข
URL:https://japaneseswordmuseumthailand.com/event/%e0%b8%a7%e0%b8%b1%e0%b8%99%e0%b9%80%e0%b8%94%e0%b9%87%e0%b8%81/
CATEGORIES:ญี่ปุ่น
END:VEVENT
BEGIN:VEVENT
DTSTART;VALUE=DATE:20250404
DTEND;VALUE=DATE:20250405
DTSTAMP:20260422T201327
CREATED:20230401T100323Z
LAST-MODIFIED:20250107T151451Z
UID:1477-1743724800-1743811199@japaneseswordmuseumthailand.com
SUMMARY:วันสีเขียว
DESCRIPTION:เป็นวันขอบคุณธรรมชาติ
URL:https://japaneseswordmuseumthailand.com/event/%e0%b8%a7%e0%b8%b1%e0%b8%99%e0%b8%aa%e0%b8%b5%e0%b9%80%e0%b8%82%e0%b8%b5%e0%b8%a2%e0%b8%a7/
CATEGORIES:ญี่ปุ่น
END:VEVENT
BEGIN:VEVENT
DTSTART;TZID=Asia/Krasnoyarsk:20250320T000000
DTEND;TZID=Asia/Krasnoyarsk:20250321T000000
DTSTAMP:20260422T201327
CREATED:20230401T094828Z
LAST-MODIFIED:20250107T151622Z
UID:1471-1742428800-1742515200@japaneseswordmuseumthailand.com
SUMMARY:วันวสันตวิษุวัต
DESCRIPTION:ที่ญี่ปุ่นกำหนดให้วันที่เวลาของกลางวันและกลางคืนยาวเท่ากันเป็นวันหยุดตามกฎหมาย
URL:https://japaneseswordmuseumthailand.com/event/%e0%b8%a7%e0%b8%b1%e0%b8%99%e0%b8%a7%e0%b8%aa%e0%b8%b1%e0%b8%99%e0%b8%95%e0%b8%a7%e0%b8%b4%e0%b8%a9%e0%b8%b8%e0%b8%a7%e0%b8%b1%e0%b8%95/
CATEGORIES:ญี่ปุ่น
END:VEVENT
BEGIN:VEVENT
DTSTART;VALUE=DATE:20250223
DTEND;VALUE=DATE:20250224
DTSTAMP:20260422T201327
CREATED:20230401T092336Z
LAST-MODIFIED:20250107T151711Z
UID:1469-1740268800-1740355199@japaneseswordmuseumthailand.com
SUMMARY:วันพระราชสมภพของพระจักรพรรดิ
DESCRIPTION:วันเฉลิมฉลองวันคล้ายวันประสูติของจักรพรรดิ
URL:https://japaneseswordmuseumthailand.com/event/%e0%b8%a7%e0%b8%b1%e0%b8%99%e0%b8%9e%e0%b8%a3%e0%b8%b0%e0%b8%a3%e0%b8%b2%e0%b8%8a%e0%b8%aa%e0%b8%a1%e0%b8%a0%e0%b8%9e%e0%b8%82%e0%b8%ad%e0%b8%87%e0%b8%9e%e0%b8%a3%e0%b8%b0%e0%b8%88%e0%b8%b1%e0%b8%81/
CATEGORIES:ญี่ปุ่น
END:VEVENT
BEGIN:VEVENT
DTSTART;VALUE=DATE:20250211
DTEND;VALUE=DATE:20250212
DTSTAMP:20260422T201327
CREATED:20230401T092306Z
LAST-MODIFIED:20250107T151725Z
UID:1467-1739232000-1739318399@japaneseswordmuseumthailand.com
SUMMARY:วันสถาปนาประเทศ
DESCRIPTION:เป็นวันระลึกถึงการสถาปนาประเทศญี่ปุ่น
URL:https://japaneseswordmuseumthailand.com/event/%e0%b8%a7%e0%b8%b1%e0%b8%99%e0%b8%aa%e0%b8%96%e0%b8%b2%e0%b8%9b%e0%b8%99%e0%b8%b2%e0%b8%9b%e0%b8%a3%e0%b8%b0%e0%b9%80%e0%b8%97%e0%b8%a8/
CATEGORIES:ญี่ปุ่น
END:VEVENT
BEGIN:VEVENT
DTSTART;VALUE=DATE:20250102
DTEND;VALUE=DATE:20250103
DTSTAMP:20260422T201327
CREATED:20230401T092241Z
LAST-MODIFIED:20250107T151944Z
UID:1465-1735776000-1735862399@japaneseswordmuseumthailand.com
SUMMARY:วันบรรลุนิติภาวะ
DESCRIPTION:ฉลองการบรรลุนิติภาวะของเหล่าผู้ที่มีอายุครบ 18 ปีบริบูรณ์ในปีนั้นๆ (ที่ญี่ปุ่นสามารถสูบบุหรี่และดื่มสุราได้ตั้งแต่อายุ 20 ปีขึ้นไป)
URL:https://japaneseswordmuseumthailand.com/event/%e0%b8%a7%e0%b8%b1%e0%b8%99%e0%b8%9a%e0%b8%a3%e0%b8%a3%e0%b8%a5%e0%b8%b8%e0%b8%99%e0%b8%b4%e0%b8%95%e0%b8%b4%e0%b8%a0%e0%b8%b2%e0%b8%a7%e0%b8%b0/
CATEGORIES:ญี่ปุ่น
END:VEVENT
BEGIN:VEVENT
DTSTART;VALUE=DATE:20250101
DTEND;VALUE=DATE:20250102
DTSTAMP:20260422T201327
CREATED:20240126T133611Z
LAST-MODIFIED:20250107T145804Z
UID:1940-1735689600-1735775999@japaneseswordmuseumthailand.com
SUMMARY:วันปีใหม่
DESCRIPTION:ในช่วงเย็นวันที่ 31 ธันวาคม หรือเช้าวันที่ 1 มกราคม จะไปสักการะขอพรที่วัดหรือศาลเจ้าเพื่อเฉลิมฉลองวันขึ้นปีใหม่
URL:https://japaneseswordmuseumthailand.com/event/%e0%b8%a7%e0%b8%b1%e0%b8%99%e0%b8%9b%e0%b8%b5%e0%b9%83%e0%b8%ab%e0%b8%a1%e0%b9%88-2/
CATEGORIES:ญี่ปุ่น
END:VEVENT
BEGIN:VEVENT
DTSTART;VALUE=DATE:20250101
DTEND;VALUE=DATE:20250102
DTSTAMP:20260422T201327
CREATED:20230401T092217Z
LAST-MODIFIED:20250107T152001Z
UID:1463-1735689600-1735775999@japaneseswordmuseumthailand.com
SUMMARY:วันปีใหม่
DESCRIPTION:ในช่วงเย็นวันที่ 31 ธันวาคม หรือเช้าวันที่ 1 มกราคม จะไปสักการะขอพรที่วัดหรือศาลเจ้าเพื่อเฉลิมฉลองวันขึ้นปีใหม่
URL:https://japaneseswordmuseumthailand.com/event/%e0%b8%a7%e0%b8%b1%e0%b8%99%e0%b8%9b%e0%b8%b5%e0%b9%83%e0%b8%ab%e0%b8%a1%e0%b9%88/
CATEGORIES:ญี่ปุ่น
END:VEVENT
END:VCALENDAR