BEGIN:VCALENDAR
VERSION:2.0
PRODID:-//Japanswordmuseumthailand - ECPv6.3.1//NONSGML v1.0//EN
CALSCALE:GREGORIAN
METHOD:PUBLISH
X-WR-CALNAME:Japanswordmuseumthailand
X-ORIGINAL-URL:https://japaneseswordmuseumthailand.com
X-WR-CALDESC:Events for Japanswordmuseumthailand
REFRESH-INTERVAL;VALUE=DURATION:PT1H
X-Robots-Tag:noindex
X-PUBLISHED-TTL:PT1H
BEGIN:VTIMEZONE
TZID:Asia/Krasnoyarsk
BEGIN:STANDARD
TZOFFSETFROM:+0700
TZOFFSETTO:+0700
TZNAME:+07
DTSTART:20250101T000000
END:STANDARD
END:VTIMEZONE
BEGIN:VEVENT
DTSTART;VALUE=DATE:20250811
DTEND;VALUE=DATE:20250812
DTSTAMP:20260423T055149
CREATED:20230401T100450Z
LAST-MODIFIED:20250107T150744Z
UID:1483-1754870400-1754956799@japaneseswordmuseumthailand.com
SUMMARY:วันแห่งภูเขา
DESCRIPTION:เป็นวันขอบคุณพระคุณของภูเขาญี่ปุ่น มักจะตรงกับช่วงเริ่มต้นของเทศกาลที่เรียกว่าโอบง เป็นช่วงที่ผู้คนนิยมกลับบ้านเกิดมากเป็นพิเศษเมื่อเทียบกับช่วงเวลาอื่นๆ ของปี มักใช้ช่วงเวลาพิเศษนี้ในการสื่อสารและกระชับความสัมพันธ์กับบรรพบุรุษ
URL:https://japaneseswordmuseumthailand.com/event/%e0%b8%a7%e0%b8%b1%e0%b8%99%e0%b9%81%e0%b8%ab%e0%b9%88%e0%b8%87%e0%b8%a0%e0%b8%b9%e0%b9%80%e0%b8%82%e0%b8%b2/
CATEGORIES:ญี่ปุ่น
END:VEVENT
BEGIN:VEVENT
DTSTART;VALUE=DATE:20250811
DTEND;VALUE=DATE:20250812
DTSTAMP:20260423T055149
CREATED:20240126T140236Z
LAST-MODIFIED:20250107T135259Z
UID:1981-1754870400-1754956799@japaneseswordmuseumthailand.com
SUMMARY:วันแห่งภูเขา
DESCRIPTION:เป็นวันขอบคุณพระคุณของภูเขาญี่ปุ่น มักจะตรงกับช่วงเริ่มต้นของเทศกาลที่เรียกว่าโอบง เป็นช่วงที่ผู้คนนิยมกลับบ้านเกิดมากเป็นพิเศษเมื่อเทียบกับช่วงเวลาอื่นๆ ของปี มักใช้ช่วงเวลาพิเศษนี้ในการสื่อสารและกระชับความสัมพันธ์กับบรรพบุรุษ
URL:https://japaneseswordmuseumthailand.com/event/%e0%b8%a7%e0%b8%b1%e0%b8%99%e0%b9%81%e0%b8%ab%e0%b9%88%e0%b8%87%e0%b8%a0%e0%b8%b9%e0%b9%80%e0%b8%82%e0%b8%b2-2/
CATEGORIES:ญี่ปุ่น
END:VEVENT
END:VCALENDAR