BEGIN:VCALENDAR
VERSION:2.0
PRODID:-//Japanswordmuseumthailand - ECPv6.3.1//NONSGML v1.0//EN
CALSCALE:GREGORIAN
METHOD:PUBLISH
X-WR-CALNAME:Japanswordmuseumthailand
X-ORIGINAL-URL:https://japaneseswordmuseumthailand.com
X-WR-CALDESC:Events for Japanswordmuseumthailand
REFRESH-INTERVAL;VALUE=DURATION:PT1H
X-Robots-Tag:noindex
X-PUBLISHED-TTL:PT1H
BEGIN:VTIMEZONE
TZID:Asia/Krasnoyarsk
BEGIN:STANDARD
TZOFFSETFROM:+0700
TZOFFSETTO:+0700
TZNAME:+07
DTSTART:20250101T000000
END:STANDARD
END:VTIMEZONE
BEGIN:VEVENT
DTSTART;VALUE=DATE:20251216
DTEND;VALUE=DATE:20251217
DTSTAMP:20260423T232006
CREATED:20230401T091249Z
LAST-MODIFIED:20250107T145906Z
UID:1459-1765843200-1765929599@japaneseswordmuseumthailand.com
SUMMARY:วันกีฬาแห่งชาติ
DESCRIPTION:วันกีฬาแห่งชาติตรงกับวันที่ 16 ธันวาคม ของทุกปี มีขึ้นเพื่อระลึกถึงวันที่พระบาทสมเด็จพระเจ้าอยู่หัว ทรงชนะเลิศได้รับเหรียญทอง ในการแข่งขันเรือใบประเภท โอ.เค.ในกีฬาแหลมทอง ครั้งที่ 4 เมื่อปี พ.ศ. 2510 และเพื่อให้ประชาชน เยาวชน ได้ตระหนักถึงความสำคัญของกีฬาที่มีส่วนช่วยส่งเสริมให้เรามีสุขภาพที่ดีทั้งกายและใจ
URL:https://japaneseswordmuseumthailand.com/event/%e0%b8%a7%e0%b8%b1%e0%b8%99%e0%b8%81%e0%b8%b5%e0%b8%ac%e0%b8%b2%e0%b9%81%e0%b8%ab%e0%b9%88%e0%b8%87%e0%b8%8a%e0%b8%b2%e0%b8%95%e0%b8%b4/
CATEGORIES:ไทย
END:VEVENT
BEGIN:VEVENT
DTSTART;VALUE=DATE:20251216
DTEND;VALUE=DATE:20251217
DTSTAMP:20260423T232006
CREATED:20230408T123121Z
LAST-MODIFIED:20250107T145857Z
UID:1792-1765843200-1765929599@japaneseswordmuseumthailand.com
SUMMARY:national sports day
DESCRIPTION:National Sports Day falls on December 16 of every year to commemorate the day of His Majesty King Bhumibol Adulyadej. The winner received a gold medal. in sailing boat races in the 4th Laem Thong Sport in 1967 and for people and young people to realize the importance of sports that help promote good health both physically and mentally.
URL:https://japaneseswordmuseumthailand.com/event/national-sports-day-2/
CATEGORIES:อังกฤษ
END:VEVENT
END:VCALENDAR