BEGIN:VCALENDAR
VERSION:2.0
PRODID:-//Japanswordmuseumthailand - ECPv6.3.1//NONSGML v1.0//EN
CALSCALE:GREGORIAN
METHOD:PUBLISH
X-ORIGINAL-URL:https://japaneseswordmuseumthailand.com
X-WR-CALDESC:Events for Japanswordmuseumthailand
REFRESH-INTERVAL;VALUE=DURATION:PT1H
X-Robots-Tag:noindex
X-PUBLISHED-TTL:PT1H
BEGIN:VTIMEZONE
TZID:Asia/Krasnoyarsk
BEGIN:STANDARD
TZOFFSETFROM:+0700
TZOFFSETTO:+0700
TZNAME:+07
DTSTART:20250101T000000
END:STANDARD
END:VTIMEZONE
BEGIN:VEVENT
DTSTART;VALUE=DATE:20251204
DTEND;VALUE=DATE:20251205
DTSTAMP:20260423T232128
CREATED:20230401T090456Z
LAST-MODIFIED:20250107T150200Z
UID:1453-1764806400-1764892799@japaneseswordmuseumthailand.com
SUMMARY:วันสิ่งแวดล้อมไทย
DESCRIPTION:วันสิ่งแวดล้อมไทยตรงกับวันที่ 4 ธันวาคม ของทุกปี เป็นวันสำคัญอีกวันหนึ่งที่จะช่วยกระตุ้นเตือนให้ประชาชนทุกภาคส่วนตระหนักว่า ทรัพยากรธรรมชาติและสิ่งแวดล้อม มีความสำคัญต่อชีวิตความเป็นอยู่ทั้งในปัจจุบันและอนาคต ซึ่งจะต้องอาศัยความร่วมมือในการปกป้องและรักษาให้ทรัพยากรธรรมชาติในประเทศคงความอุดมสมบูรณ์อย่างยั่งยืนตลอดไป
URL:https://japaneseswordmuseumthailand.com/event/%e0%b8%a7%e0%b8%b1%e0%b8%99%e0%b8%aa%e0%b8%b4%e0%b9%88%e0%b8%87%e0%b9%81%e0%b8%a7%e0%b8%94%e0%b8%a5%e0%b9%89%e0%b8%ad%e0%b8%a1%e0%b9%84%e0%b8%97%e0%b8%a2/
CATEGORIES:ไทย
END:VEVENT
BEGIN:VEVENT
DTSTART;VALUE=DATE:20251204
DTEND;VALUE=DATE:20251205
DTSTAMP:20260423T232128
CREATED:20230408T123314Z
LAST-MODIFIED:20250107T150152Z
UID:1798-1764806400-1764892799@japaneseswordmuseumthailand.com
SUMMARY:Thai Environment Day
DESCRIPTION:Thai Environment Day falls on December 4th of every year. It is another important day to help remind people from all sectors to realize that natural resources and environment It is important to our lives both now and in the future. This requires cooperation in protecting and preserving the country’s natural resources to remain fertile sustainably forever.
URL:https://japaneseswordmuseumthailand.com/event/thai-environment-day-2/
CATEGORIES:อังกฤษ
END:VEVENT
END:VCALENDAR