BEGIN:VCALENDAR
VERSION:2.0
PRODID:-//Japanswordmuseumthailand - ECPv6.3.1//NONSGML v1.0//EN
CALSCALE:GREGORIAN
METHOD:PUBLISH
X-WR-CALNAME:Japanswordmuseumthailand
X-ORIGINAL-URL:https://japaneseswordmuseumthailand.com
X-WR-CALDESC:Events for Japanswordmuseumthailand
REFRESH-INTERVAL;VALUE=DURATION:PT1H
X-Robots-Tag:noindex
X-PUBLISHED-TTL:PT1H
BEGIN:VTIMEZONE
TZID:Asia/Krasnoyarsk
BEGIN:STANDARD
TZOFFSETFROM:+0700
TZOFFSETTO:+0700
TZNAME:+07
DTSTART:20250101T000000
END:STANDARD
END:VTIMEZONE
BEGIN:VEVENT
DTSTART;VALUE=DATE:20250812
DTEND;VALUE=DATE:20250813
DTSTAMP:20260424T050303
CREATED:20230401T085650Z
LAST-MODIFIED:20250107T150728Z
UID:1433-1754956800-1755043199@japaneseswordmuseumthailand.com
SUMMARY:วันแม่แห่งชาติ
DESCRIPTION:12 สิงหาคมของทุกปีเป็นวันแม่ ซึ่งวันนี้ถือตามวันเสด็จพระราชสมภพของสมเด็จพระนางเจ้าฯ พระบรมราชินีนาถ โดยเริ่มมาตั้งแต่ พ.ศ. 2519 เป็นต้นมาจนถึงปัจจุบัน ทั้งนี้เพื่อให้ลูก ๆ ทุกคนควรรำลึกถึงพระคุณของมารดานั่นเอง
URL:https://japaneseswordmuseumthailand.com/event/%e0%b8%a7%e0%b8%b1%e0%b8%99%e0%b9%81%e0%b8%a1%e0%b9%88%e0%b9%81%e0%b8%ab%e0%b9%88%e0%b8%87%e0%b8%8a%e0%b8%b2%e0%b8%95%e0%b8%b4/
CATEGORIES:ไทย
END:VEVENT
BEGIN:VEVENT
DTSTART;VALUE=DATE:20250812
DTEND;VALUE=DATE:20250813
DTSTAMP:20260424T050303
CREATED:20230408T124045Z
LAST-MODIFIED:20250107T150720Z
UID:1810-1754956800-1755043199@japaneseswordmuseumthailand.com
SUMMARY:Mother's Day
DESCRIPTION:Mother’s Day is celebrated on August 12 every year. Which today is considered the birthday of Her Majesty the Queen the queen which started from 1976 onwards until now This is so that all children should remember their mother’s grace.
URL:https://japaneseswordmuseumthailand.com/event/mothers-day-2/
CATEGORIES:อังกฤษ
END:VEVENT
BEGIN:VEVENT
DTSTART;VALUE=DATE:20250812
DTEND;VALUE=DATE:20250813
DTSTAMP:20260424T050303
CREATED:20240126T140204Z
LAST-MODIFIED:20250107T133011Z
UID:1984-1754956800-1755043199@japaneseswordmuseumthailand.com
SUMMARY:Mother's Day
DESCRIPTION:Mother’s Day is celebrated on August 12 every year. Which today is considered the birthday of Her Majesty the Queen the queen which started from 1976 onwards until now This is so that all children should remember their mother’s grace.
URL:https://japaneseswordmuseumthailand.com/event/mothers-day/
CATEGORIES:อังกฤษ
END:VEVENT
BEGIN:VEVENT
DTSTART;VALUE=DATE:20250812
DTEND;VALUE=DATE:20250813
DTSTAMP:20260424T050303
CREATED:20240126T140216Z
LAST-MODIFIED:20250107T132936Z
UID:1983-1754956800-1755043199@japaneseswordmuseumthailand.com
SUMMARY:วันแม่แห่งชาติ
DESCRIPTION:12 สิงหาคมของทุกปีเป็นวันแม่ ซึ่งวันนี้ถือตามวันเสด็จพระราชสมภพของสมเด็จพระนางเจ้าฯ พระบรมราชินีนาถ โดยเริ่มมาตั้งแต่ พ.ศ. 2519 เป็นต้นมาจนถึงปัจจุบัน ทั้งนี้เพื่อให้ลูก ๆ ทุกคนควรรำลึกถึงพระคุณของมารดานั่นเอง
URL:https://japaneseswordmuseumthailand.com/event/%e0%b8%a7%e0%b8%b1%e0%b8%99%e0%b9%81%e0%b8%a1%e0%b9%88%e0%b9%81%e0%b8%ab%e0%b9%88%e0%b8%87%e0%b8%8a%e0%b8%b2%e0%b8%95%e0%b8%b4-2/
CATEGORIES:ไทย
END:VEVENT
END:VCALENDAR