BEGIN:VCALENDAR
VERSION:2.0
PRODID:-//Japanswordmuseumthailand - ECPv6.3.1//NONSGML v1.0//EN
CALSCALE:GREGORIAN
METHOD:PUBLISH
X-ORIGINAL-URL:https://japaneseswordmuseumthailand.com
X-WR-CALDESC:Events for Japanswordmuseumthailand
REFRESH-INTERVAL;VALUE=DURATION:PT1H
X-Robots-Tag:noindex
X-PUBLISHED-TTL:PT1H
BEGIN:VTIMEZONE
TZID:Asia/Krasnoyarsk
BEGIN:STANDARD
TZOFFSETFROM:+0700
TZOFFSETTO:+0700
TZNAME:+07
DTSTART:20250101T000000
END:STANDARD
END:VTIMEZONE
BEGIN:VEVENT
DTSTART;VALUE=DATE:20250801
DTEND;VALUE=DATE:20250802
DTSTAMP:20260424T050830
CREATED:20230401T085422Z
LAST-MODIFIED:20250107T150857Z
UID:1425-1754006400-1754092799@japaneseswordmuseumthailand.com
SUMMARY:วันอาสาฬหบูชา
DESCRIPTION:วันอาสาฬหบูชาตรงกับวันขึ้น 15 ค่ำ เดือน 8  เป็นวันที่พระพุทธเจ้าทรงประกาศพระศาสนาเป็นครั้งแรก โดยแสดงปฐมเทศนา และเกิดมีสาวกรูปแรกขึ้น อีกทั้งยังเป็นวันแรกที่มีพระพุทธ พระธรรม พระสงฆ์ ครบเป็นองค์พระรัตนตรัย
URL:https://japaneseswordmuseumthailand.com/event/%e0%b8%a7%e0%b8%b1%e0%b8%99%e0%b8%ad%e0%b8%b2%e0%b8%aa%e0%b8%b2%e0%b8%ac%e0%b8%ab%e0%b8%9a%e0%b8%b9%e0%b8%8a%e0%b8%b2/
CATEGORIES:ไทย
END:VEVENT
BEGIN:VEVENT
DTSTART;VALUE=DATE:20250801
DTEND;VALUE=DATE:20250802
DTSTAMP:20260424T050830
CREATED:20230408T124305Z
LAST-MODIFIED:20250107T150851Z
UID:1817-1754006400-1754092799@japaneseswordmuseumthailand.com
SUMMARY:Asarnha Bucha Day
DESCRIPTION:Asalha Bucha Day falls on the 15th day of the waxing moon of the 8th lunar month\, the day the Lord Buddha preached the religion for the first time. by giving the first sermon and the first disciple was born It is also the first day that the Buddha\, the Dhamma\, and the Sangha complete the three jewels.
URL:https://japaneseswordmuseumthailand.com/event/asarnha-bucha-day-2/
CATEGORIES:อังกฤษ
END:VEVENT
BEGIN:VEVENT
DTSTART;VALUE=DATE:20250801
DTEND;VALUE=DATE:20250802
DTSTAMP:20260424T050830
CREATED:20240126T140413Z
LAST-MODIFIED:20250107T140824Z
UID:1978-1754006400-1754092799@japaneseswordmuseumthailand.com
SUMMARY:Asarnha Bucha Day
DESCRIPTION:Asalha Bucha Day falls on the 15th day of the waxing moon of the 8th lunar month\, the day the Lord Buddha preached the religion for the first time. by giving the first sermon and the first disciple was born It is also the first day that the Buddha\, the Dhamma\, and the Sangha complete the three jewels.
URL:https://japaneseswordmuseumthailand.com/event/asarnha-bucha-day/
CATEGORIES:อังกฤษ
END:VEVENT
BEGIN:VEVENT
DTSTART;VALUE=DATE:20250801
DTEND;VALUE=DATE:20250802
DTSTAMP:20260424T050830
CREATED:20240126T140422Z
LAST-MODIFIED:20250107T140815Z
UID:1977-1754006400-1754092799@japaneseswordmuseumthailand.com
SUMMARY:วันอาสาฬหบูชา
DESCRIPTION:วันอาสาฬหบูชาตรงกับวันขึ้น 15 ค่ำ เดือน 8  เป็นวันที่พระพุทธเจ้าทรงประกาศพระศาสนาเป็นครั้งแรก โดยแสดงปฐมเทศนา และเกิดมีสาวกรูปแรกขึ้น อีกทั้งยังเป็นวันแรกที่มีพระพุทธ พระธรรม พระสงฆ์ ครบเป็นองค์พระรัตนตรัย
URL:https://japaneseswordmuseumthailand.com/event/%e0%b8%a7%e0%b8%b1%e0%b8%99%e0%b8%ad%e0%b8%b2%e0%b8%aa%e0%b8%b2%e0%b8%ac%e0%b8%ab%e0%b8%9a%e0%b8%b9%e0%b8%8a%e0%b8%b2-2/
CATEGORIES:ไทย
END:VEVENT
END:VCALENDAR