BEGIN:VCALENDAR
VERSION:2.0
PRODID:-//Japanswordmuseumthailand - ECPv6.3.1//NONSGML v1.0//EN
CALSCALE:GREGORIAN
METHOD:PUBLISH
X-ORIGINAL-URL:https://japaneseswordmuseumthailand.com
X-WR-CALDESC:Events for Japanswordmuseumthailand
REFRESH-INTERVAL;VALUE=DURATION:PT1H
X-Robots-Tag:noindex
X-PUBLISHED-TTL:PT1H
BEGIN:VTIMEZONE
TZID:Asia/Krasnoyarsk
BEGIN:STANDARD
TZOFFSETFROM:+0700
TZOFFSETTO:+0700
TZNAME:+07
DTSTART:20250101T000000
END:STANDARD
END:VTIMEZONE
BEGIN:VEVENT
DTSTART;VALUE=DATE:20250626
DTEND;VALUE=DATE:20250627
DTSTAMP:20260424T074854
CREATED:20230401T085140Z
LAST-MODIFIED:20250107T151017Z
UID:1421-1750896000-1750982399@japaneseswordmuseumthailand.com
SUMMARY:วันต่อต้านยาเสพติด
DESCRIPTION:วันต่อต้านยาเสพติดโลกตรงกับวันที่ 26 มิถุนายน ของทุกปี โดยมีขึ้นเพื่อให้เยาวชนและประชาชนทุกคนตระหนักถึงอันตรายของยาเสพติด รวมไปถึงช่วยกันรณรงค์ให้เยาวชนไทยห่างไกลจากยาเสพติดด้วย
URL:https://japaneseswordmuseumthailand.com/event/%e0%b8%a7%e0%b8%b1%e0%b8%99%e0%b8%95%e0%b9%88%e0%b8%ad%e0%b8%95%e0%b9%89%e0%b8%b2%e0%b8%99%e0%b8%a2%e0%b8%b2%e0%b9%80%e0%b8%aa%e0%b8%9e%e0%b8%95%e0%b8%b4%e0%b8%94/
CATEGORIES:ไทย
END:VEVENT
BEGIN:VEVENT
DTSTART;VALUE=DATE:20250626
DTEND;VALUE=DATE:20250627
DTSTAMP:20260424T074854
CREATED:20230401T085208Z
LAST-MODIFIED:20250107T151007Z
UID:1423-1750896000-1750982399@japaneseswordmuseumthailand.com
SUMMARY:วันสุนทรภู่
DESCRIPTION:ตรงกับวันที่ 26 มิถุนายน เป็นวันคล้ายวันเกิดของพระสุนทรโวหาร (สุนทรภู่) ผู้ได้รับการยกย่องว่าเป็นกวีเอกแห่งกรุงรัตนโกสินทร์ตอนต้น และมีผลงานประพันธ์มากมาย เฉพาะเรื่อง พระอภัยมณี วรรณกรรมชิ้นเอกของท่าน ก็มีความยาวถึง 12\,706 บท ถือได้ว่าเป็นกวีนิพนธ์ที่ยาวที่สุดในโลก และในปี พ.ศ. 2529 สุนทรภู่ยังได้รับการยกย่องจากยูเนสโกให้เป็นบุคคลผู้มีผลงานดีเด่นทางวัฒนธรรมระดับโลกอีกด้วย
URL:https://japaneseswordmuseumthailand.com/event/%e0%b8%a7%e0%b8%b1%e0%b8%99%e0%b8%aa%e0%b8%b8%e0%b8%99%e0%b8%97%e0%b8%a3%e0%b8%a0%e0%b8%b9%e0%b9%88/
CATEGORIES:ไทย
END:VEVENT
BEGIN:VEVENT
DTSTART;VALUE=DATE:20250626
DTEND;VALUE=DATE:20250627
DTSTAMP:20260424T074854
CREATED:20230408T124503Z
LAST-MODIFIED:20250107T151000Z
UID:1825-1750896000-1750982399@japaneseswordmuseumthailand.com
SUMMARY:anti drug day
DESCRIPTION:World Day Against Drug Abuse takes place on 26 June every year to raise awareness among young people and all citizens about the dangers of drugs. Including helping to campaign for Thai youth to be away from drugs as well
URL:https://japaneseswordmuseumthailand.com/event/anti-drug-day-2/
CATEGORIES:อังกฤษ
END:VEVENT
BEGIN:VEVENT
DTSTART;VALUE=DATE:20250626
DTEND;VALUE=DATE:20250627
DTSTAMP:20260424T074854
CREATED:20230408T124531Z
LAST-MODIFIED:20250107T150953Z
UID:1827-1750896000-1750982399@japaneseswordmuseumthailand.com
SUMMARY:Sunthorn Phu Day
DESCRIPTION:On June 26\, it is the birthday of Phra Sunthorn Vohan (Sunthorn Phu)\, who is regarded as a great poet of the early Rattanakosin period. And there are many literary works\, especially Phra Aphai Mani\, his literary masterpiece It has a length of 12\,706 chapters\, which is regarded as the longest anthology in the world\, and in the year 2529\, Soonthornphu was also honored by UNESCO as a person who has outstanding cultural contributions to the world. as well
URL:https://japaneseswordmuseumthailand.com/event/sunthorn-phu-day-2/
CATEGORIES:อังกฤษ
END:VEVENT
BEGIN:VEVENT
DTSTART;VALUE=DATE:20250626
DTEND;VALUE=DATE:20250627
DTSTAMP:20260424T074854
CREATED:20240126T135203Z
LAST-MODIFIED:20250107T145355Z
UID:1970-1750896000-1750982399@japaneseswordmuseumthailand.com
SUMMARY:Sunthorn Phu Day
DESCRIPTION:On June 26\, it is the birthday of Phra Sunthorn Vohan (Sunthorn Phu)\, who is regarded as a great poet of the early Rattanakosin period. And there are many literary works\, especially Phra Aphai Mani\, his literary masterpiece It has a length of 12\,706 chapters\, which is regarded as the longest anthology in the world\, and in the year 2529\, Soonthornphu was also honored by UNESCO as a person who has outstanding cultural contributions to the world. as well
URL:https://japaneseswordmuseumthailand.com/event/sunthorn-phu-day/
CATEGORIES:อังกฤษ
END:VEVENT
BEGIN:VEVENT
DTSTART;VALUE=DATE:20250626
DTEND;VALUE=DATE:20250627
DTSTAMP:20260424T074854
CREATED:20240126T135213Z
LAST-MODIFIED:20250107T145345Z
UID:1969-1750896000-1750982399@japaneseswordmuseumthailand.com
SUMMARY:วันสุนทรภู่
DESCRIPTION:ตรงกับวันที่ 26 มิถุนายน เป็นวันคล้ายวันเกิดของพระสุนทรโวหาร (สุนทรภู่) ผู้ได้รับการยกย่องว่าเป็นกวีเอกแห่งกรุงรัตนโกสินทร์ตอนต้น และมีผลงานประพันธ์มากมาย เฉพาะเรื่อง พระอภัยมณี วรรณกรรมชิ้นเอกของท่าน ก็มีความยาวถึง 12\,706 บท ถือได้ว่าเป็นกวีนิพนธ์ที่ยาวที่สุดในโลก และในปี พ.ศ. 2529 สุนทรภู่ยังได้รับการยกย่องจากยูเนสโกให้เป็นบุคคลผู้มีผลงานดีเด่นทางวัฒนธรรมระดับโลกอีกด้วย
URL:https://japaneseswordmuseumthailand.com/event/%e0%b8%a7%e0%b8%b1%e0%b8%99%e0%b8%aa%e0%b8%b8%e0%b8%99%e0%b8%97%e0%b8%a3%e0%b8%a0%e0%b8%b9%e0%b9%88-2/
CATEGORIES:ไทย
END:VEVENT
END:VCALENDAR