BEGIN:VCALENDAR
VERSION:2.0
PRODID:-//Japanswordmuseumthailand - ECPv6.3.1//NONSGML v1.0//EN
CALSCALE:GREGORIAN
METHOD:PUBLISH
X-WR-CALNAME:Japanswordmuseumthailand
X-ORIGINAL-URL:https://japaneseswordmuseumthailand.com
X-WR-CALDESC:Events for Japanswordmuseumthailand
REFRESH-INTERVAL;VALUE=DURATION:PT1H
X-Robots-Tag:noindex
X-PUBLISHED-TTL:PT1H
BEGIN:VTIMEZONE
TZID:Asia/Krasnoyarsk
BEGIN:STANDARD
TZOFFSETFROM:+0700
TZOFFSETTO:+0700
TZNAME:+07
DTSTART:20250101T000000
END:STANDARD
END:VTIMEZONE
BEGIN:VEVENT
DTSTART;VALUE=DATE:20250609
DTEND;VALUE=DATE:20250610
DTSTAMP:20260424T074811
CREATED:20230401T085113Z
LAST-MODIFIED:20250107T151047Z
UID:1419-1749427200-1749513599@japaneseswordmuseumthailand.com
SUMMARY:วันอานันทมหิดล
DESCRIPTION:วันอานันทมหิดลตรงกับวันที่ 9 มิถุนายน ของทุกปี มีความสำคัญคือเป็นวันคล้ายวันสวรรคตของพระบาทสมเด็จพระปรเมนทรมหาอานันทมหิดล (รัชกาลที่ 8) เพื่อให้ชาวไทยได้รำลึกถึงพระมหากรุาธิคุณของพระองค์
URL:https://japaneseswordmuseumthailand.com/event/%e0%b8%a7%e0%b8%b1%e0%b8%99%e0%b8%ad%e0%b8%b2%e0%b8%99%e0%b8%b1%e0%b8%99%e0%b8%97%e0%b8%a1%e0%b8%ab%e0%b8%b4%e0%b8%94%e0%b8%a5/
CATEGORIES:ไทย
END:VEVENT
BEGIN:VEVENT
DTSTART;VALUE=DATE:20250609
DTEND;VALUE=DATE:20250610
DTSTAMP:20260424T074811
CREATED:20230408T124631Z
LAST-MODIFIED:20250107T151039Z
UID:1831-1749427200-1749513599@japaneseswordmuseumthailand.com
SUMMARY:Ananda Mahidol Day
DESCRIPTION:Ananda Mahidol Day falls on June 9th of every year. It is important that it is the day that commemorates the death of His Majesty King Ananda Mahidol (Rama VIII) for Thai people to commemorate His Majesty. His Majesty
URL:https://japaneseswordmuseumthailand.com/event/ananda-mahidol-day-2/
CATEGORIES:อังกฤษ
END:VEVENT
END:VCALENDAR