BEGIN:VCALENDAR
VERSION:2.0
PRODID:-//Japanswordmuseumthailand - ECPv6.3.1//NONSGML v1.0//EN
CALSCALE:GREGORIAN
METHOD:PUBLISH
X-ORIGINAL-URL:https://japaneseswordmuseumthailand.com
X-WR-CALDESC:Events for Japanswordmuseumthailand
REFRESH-INTERVAL;VALUE=DURATION:PT1H
X-Robots-Tag:noindex
X-PUBLISHED-TTL:PT1H
BEGIN:VTIMEZONE
TZID:Asia/Krasnoyarsk
BEGIN:STANDARD
TZOFFSETFROM:+0700
TZOFFSETTO:+0700
TZNAME:+07
DTSTART:20250101T000000
END:STANDARD
END:VTIMEZONE
BEGIN:VEVENT
DTSTART;VALUE=DATE:20250513
DTEND;VALUE=DATE:20250514
DTSTAMP:20260424T085709
CREATED:20230401T084705Z
LAST-MODIFIED:20250107T151223Z
UID:1413-1747094400-1747180799@japaneseswordmuseumthailand.com
SUMMARY:วันพืชมงคล
DESCRIPTION:วันพืชมงคลจะมีในช่วงเดือนพฤษภาคมของทุกปี โดยกำหนดให้มีพระราชพิธีจรดพระนังคัลแรกนาขวัญซึ่งเป็นพระราชพิธีเก่าแก่แต่โบราณเพื่อเสริมสร้างขวัญและกำลังใจแก่เกษตรกรของชาติ และเพื่อเป็นการระลึกถึงความสำคัญของเกษตรกรที่มีต่อเศรษฐกิจไทย นอกจากนี้วันพืชมงคลยังเป็นวันที่ประชาชนจะได้ตระหนักเห็นถึงความสำคัญของผลิตผลจากเกษตรกรไทย ไม่ว่าจะเป็นข้าว ถั่ว ธัญพืช ที่หล่อเลี้ยงชีวิตเรามาแต่ไหนแต่ไร
URL:https://japaneseswordmuseumthailand.com/event/%e0%b8%a7%e0%b8%b1%e0%b8%99%e0%b8%9e%e0%b8%b7%e0%b8%8a%e0%b8%a1%e0%b8%87%e0%b8%84%e0%b8%a5/
CATEGORIES:ไทย
END:VEVENT
BEGIN:VEVENT
DTSTART;VALUE=DATE:20250513
DTEND;VALUE=DATE:20250514
DTSTAMP:20260424T085709
CREATED:20230408T124752Z
LAST-MODIFIED:20250107T151214Z
UID:1837-1747094400-1747180799@japaneseswordmuseumthailand.com
SUMMARY:auspicious plant day
DESCRIPTION:Auspicious Plowing Day will be held during the month of May every year. by prescribing the Royal Plowing Ceremony\, which is an ancient royal ceremony to strengthen the morale of the nation’s farmers and to commemorate the importance of farmers to the Thai economy In addition\, Plowing Day is also a day for people to realize the importance of produce from Thai farmers. Whether it’s rice\, beans\, grains that nourish our lives from time immemorial.
URL:https://japaneseswordmuseumthailand.com/event/auspicious-plant-day-2/
CATEGORIES:อังกฤษ
END:VEVENT
BEGIN:VEVENT
DTSTART;VALUE=DATE:20250513
DTEND;VALUE=DATE:20250514
DTSTAMP:20260424T085709
CREATED:20240126T135250Z
LAST-MODIFIED:20250107T145435Z
UID:1966-1747094400-1747180799@japaneseswordmuseumthailand.com
SUMMARY:auspicious plant day
DESCRIPTION:Auspicious Plowing Day will be held during the month of May every year. by prescribing the Royal Plowing Ceremony\, which is an ancient royal ceremony to strengthen the morale of the nation’s farmers and to commemorate the importance of farmers to the Thai economy In addition\, Plowing Day is also a day for people to realize the importance of produce from Thai farmers. Whether it’s rice\, beans\, grains that nourish our lives from time immemorial.
URL:https://japaneseswordmuseumthailand.com/event/auspicious-plant-day/
CATEGORIES:อังกฤษ
END:VEVENT
BEGIN:VEVENT
DTSTART;VALUE=DATE:20250513
DTEND;VALUE=DATE:20250514
DTSTAMP:20260424T085709
CREATED:20240126T135303Z
LAST-MODIFIED:20250107T145427Z
UID:1965-1747094400-1747180799@japaneseswordmuseumthailand.com
SUMMARY:วันพืชมงคล
DESCRIPTION:วันพืชมงคลจะมีในช่วงเดือนพฤษภาคมของทุกปี โดยกำหนดให้มีพระราชพิธีจรดพระนังคัลแรกนาขวัญซึ่งเป็นพระราชพิธีเก่าแก่แต่โบราณเพื่อเสริมสร้างขวัญและกำลังใจแก่เกษตรกรของชาติ และเพื่อเป็นการระลึกถึงความสำคัญของเกษตรกรที่มีต่อเศรษฐกิจไทย นอกจากนี้วันพืชมงคลยังเป็นวันที่ประชาชนจะได้ตระหนักเห็นถึงความสำคัญของผลิตผลจากเกษตรกรไทย ไม่ว่าจะเป็นข้าว ถั่ว ธัญพืช ที่หล่อเลี้ยงชีวิตเรามาแต่ไหนแต่ไร
URL:https://japaneseswordmuseumthailand.com/event/%e0%b8%a7%e0%b8%b1%e0%b8%99%e0%b8%9e%e0%b8%b7%e0%b8%8a%e0%b8%a1%e0%b8%87%e0%b8%84%e0%b8%a5-2/
CATEGORIES:ไทย
END:VEVENT
END:VCALENDAR