BEGIN:VCALENDAR
VERSION:2.0
PRODID:-//Japanswordmuseumthailand - ECPv6.3.1//NONSGML v1.0//EN
CALSCALE:GREGORIAN
METHOD:PUBLISH
X-ORIGINAL-URL:https://japaneseswordmuseumthailand.com
X-WR-CALDESC:Events for Japanswordmuseumthailand
REFRESH-INTERVAL;VALUE=DURATION:PT1H
X-Robots-Tag:noindex
X-PUBLISHED-TTL:PT1H
BEGIN:VTIMEZONE
TZID:Asia/Krasnoyarsk
BEGIN:STANDARD
TZOFFSETFROM:+0700
TZOFFSETTO:+0700
TZNAME:+07
DTSTART:20250101T000000
END:STANDARD
END:VTIMEZONE
BEGIN:VEVENT
DTSTART;VALUE=DATE:20250425
DTEND;VALUE=DATE:20250426
DTSTAMP:20260424T100321
CREATED:20230401T081831Z
LAST-MODIFIED:20250107T151307Z
UID:1409-1745539200-1745625599@japaneseswordmuseumthailand.com
SUMMARY:วันคล้ายวันสวรรคตสมเด็จพระนเรศวรมหาราช
DESCRIPTION:25 เมษายนของทุกปี เป็นวันคล้ายวันสวรรคตของสมเด็จพระนเรศวรมหาราช พระมหากษัตริย์นักรบผู้ยิ่งใหญ่และกล้าหาญ ในอดีตพระองค์ได้กอบกู้อิสรภาพของไทย และทำนุบำรุงบ้านเมืองให้เจริญรุ่งเรืองทั้งด้านเศรษฐกิจ สังคม ศิลปวัฒนธรรม ตลอดจนปกปักรักษาเอกราชของชาติจนทำให้มีประเทศไทยอย่างเช่นทุกวันนี้ ซึ่งในวันคล้ายวันสวรรคตของสมเด็จพระนเรศวรมหาราช จะมีการวางพวงมาลาเพื่อเป็นการถวายความจงรักภักดี และรำลึกถึงพระมหากรุณาธิคุณของพระองค์
URL:https://japaneseswordmuseumthailand.com/event/%e0%b8%a7%e0%b8%b1%e0%b8%99%e0%b8%84%e0%b8%a5%e0%b9%89%e0%b8%b2%e0%b8%a2%e0%b8%a7%e0%b8%b1%e0%b8%99%e0%b8%aa%e0%b8%a7%e0%b8%a3%e0%b8%a3%e0%b8%84%e0%b8%95%e0%b8%aa%e0%b8%a1%e0%b9%80%e0%b8%94%e0%b9%87/
CATEGORIES:ไทย
END:VEVENT
BEGIN:VEVENT
DTSTART;VALUE=DATE:20250425
DTEND;VALUE=DATE:20250426
DTSTAMP:20260424T100321
CREATED:20230408T125000Z
LAST-MODIFIED:20250107T151259Z
UID:1843-1745539200-1745625599@japaneseswordmuseumthailand.com
SUMMARY:The day of the death of King Naresuan the Great
DESCRIPTION:25 April of each year It is the day that commemorates the death of King Naresuan the Great. Great and brave warrior king In the past\, he restored the independence of Thailand. and to maintain the country to prosper in terms of economy\, society\, art and culture\, as well as to preserve the independence of the nation until there is Thailand as it is today. which on the day of the death of King Naresuan the Great Wreaths are laid as a sign of devotion. and in remembrance of His majesty
URL:https://japaneseswordmuseumthailand.com/event/the-day-of-the-death-of-king-naresuan-the-great-2/
CATEGORIES:อังกฤษ
END:VEVENT
END:VCALENDAR