BEGIN:VCALENDAR
VERSION:2.0
PRODID:-//Japanswordmuseumthailand - ECPv6.3.1//NONSGML v1.0//EN
CALSCALE:GREGORIAN
METHOD:PUBLISH
X-ORIGINAL-URL:https://japaneseswordmuseumthailand.com
X-WR-CALDESC:Events for Japanswordmuseumthailand
REFRESH-INTERVAL;VALUE=DURATION:PT1H
X-Robots-Tag:noindex
X-PUBLISHED-TTL:PT1H
BEGIN:VTIMEZONE
TZID:Asia/Krasnoyarsk
BEGIN:STANDARD
TZOFFSETFROM:+0700
TZOFFSETTO:+0700
TZNAME:+07
DTSTART:20250101T000000
END:STANDARD
END:VTIMEZONE
BEGIN:VEVENT
DTSTART;TZID=Asia/Krasnoyarsk:20250413T000000
DTEND;TZID=Asia/Krasnoyarsk:20250415T000000
DTSTAMP:20260424T100321
CREATED:20230401T081726Z
LAST-MODIFIED:20250107T151342Z
UID:1405-1744502400-1744675200@japaneseswordmuseumthailand.com
SUMMARY:วันสงกรานต์
DESCRIPTION:เทศกาลปีใหม่ของไทยที่ตรงกับวันที่ 13 เมษายน ของทุกปี นับวันที่พระอาทิตย์ย่างเข้าสู่ราศีเมษ เป็นวันเริ่มต้นปี โดยเรียกวันที่ 13 เมษายน เป็น “วันมหาสงกรานต์” และถือเป็น “วันผู้สูงอายุแห่งชาติ” ด้วย
URL:https://japaneseswordmuseumthailand.com/event/%e0%b8%a7%e0%b8%b1%e0%b8%99%e0%b8%aa%e0%b8%87%e0%b8%81%e0%b8%a3%e0%b8%b2%e0%b8%99%e0%b8%95%e0%b9%8c/
CATEGORIES:ไทย
END:VEVENT
BEGIN:VEVENT
DTSTART;TZID=Asia/Krasnoyarsk:20250413T000000
DTEND;TZID=Asia/Krasnoyarsk:20250415T000000
DTSTAMP:20260424T100321
CREATED:20230408T125115Z
LAST-MODIFIED:20250107T151332Z
UID:1847-1744502400-1744675200@japaneseswordmuseumthailand.com
SUMMARY:Songkran day
DESCRIPTION:Thai New Year’s festival that falls on April 13 of every year\, counting the day the sun enters Aries. is the beginning of the year by calling April 13 as “Maha Songkran Day” and also considered as “National Elderly Day”
URL:https://japaneseswordmuseumthailand.com/event/songkran-day-2/
CATEGORIES:อังกฤษ
END:VEVENT
BEGIN:VEVENT
DTSTART;TZID=Asia/Krasnoyarsk:20250413T000000
DTEND;TZID=Asia/Krasnoyarsk:20250415T000000
DTSTAMP:20260424T100321
CREATED:20240126T135426Z
LAST-MODIFIED:20250107T145610Z
UID:1960-1744502400-1744675200@japaneseswordmuseumthailand.com
SUMMARY:Songkran day
DESCRIPTION:Thai New Year’s festival that falls on April 13 of every year\, counting the day the sun enters Aries. is the beginning of the year by calling April 13 as “Maha Songkran Day” and also considered as “National Elderly Day”
URL:https://japaneseswordmuseumthailand.com/event/songkran-day/
CATEGORIES:อังกฤษ
END:VEVENT
BEGIN:VEVENT
DTSTART;TZID=Asia/Krasnoyarsk:20250413T000000
DTEND;TZID=Asia/Krasnoyarsk:20250415T000000
DTSTAMP:20260424T100321
CREATED:20240126T135445Z
LAST-MODIFIED:20250107T145600Z
UID:1959-1744502400-1744675200@japaneseswordmuseumthailand.com
SUMMARY:วันสงกรานต์
DESCRIPTION:เทศกาลปีใหม่ของไทยที่ตรงกับวันที่ 13 เมษายน ของทุกปี นับวันที่พระอาทิตย์ย่างเข้าสู่ราศีเมษ เป็นวันเริ่มต้นปี โดยเรียกวันที่ 13 เมษายน เป็น “วันมหาสงกรานต์” และถือเป็น “วันผู้สูงอายุแห่งชาติ” ด้วย
URL:https://japaneseswordmuseumthailand.com/event/%e0%b8%a7%e0%b8%b1%e0%b8%99%e0%b8%aa%e0%b8%87%e0%b8%81%e0%b8%a3%e0%b8%b2%e0%b8%99%e0%b8%95%e0%b9%8c-2/
CATEGORIES:ไทย
END:VEVENT
BEGIN:VEVENT
DTSTART;VALUE=DATE:20250414
DTEND;VALUE=DATE:20250415
DTSTAMP:20260424T100321
CREATED:20230401T081758Z
LAST-MODIFIED:20250107T151324Z
UID:1407-1744588800-1744675199@japaneseswordmuseumthailand.com
SUMMARY:วันครอบครัว
DESCRIPTION:ถัดมาอีกหนึ่งวันคือในวันที่ 14 เมษายน ของทุกปี รัฐบาลได้กำหนดให้วันนี้เป็นวันครอบครัว เพราะเป็นช่วงเวลาที่ประชาชนส่วนใหญ่จะกลับภูมิลำเนาเพื่อไปเยี่ยมครอบครัวกันอยู่แล้ว
URL:https://japaneseswordmuseumthailand.com/event/%e0%b8%a7%e0%b8%b1%e0%b8%99%e0%b8%84%e0%b8%a3%e0%b8%ad%e0%b8%9a%e0%b8%84%e0%b8%a3%e0%b8%b1%e0%b8%a7/
CATEGORIES:ไทย
END:VEVENT
BEGIN:VEVENT
DTSTART;VALUE=DATE:20250414
DTEND;VALUE=DATE:20250415
DTSTAMP:20260424T100321
CREATED:20230408T125027Z
LAST-MODIFIED:20250107T151317Z
UID:1845-1744588800-1744675199@japaneseswordmuseumthailand.com
SUMMARY:family day
DESCRIPTION:One day later\, on April 14 of every year\, the government has designated this day as a family day. Because it is the time when most people will return to their hometowns to visit their families.
URL:https://japaneseswordmuseumthailand.com/event/family-day-2/
CATEGORIES:อังกฤษ
END:VEVENT
END:VCALENDAR