BEGIN:VCALENDAR
VERSION:2.0
PRODID:-//Japanswordmuseumthailand - ECPv6.3.1//NONSGML v1.0//EN
CALSCALE:GREGORIAN
METHOD:PUBLISH
X-ORIGINAL-URL:https://japaneseswordmuseumthailand.com
X-WR-CALDESC:Events for Japanswordmuseumthailand
REFRESH-INTERVAL;VALUE=DURATION:PT1H
X-Robots-Tag:noindex
X-PUBLISHED-TTL:PT1H
BEGIN:VTIMEZONE
TZID:Asia/Krasnoyarsk
BEGIN:STANDARD
TZOFFSETFROM:+0700
TZOFFSETTO:+0700
TZNAME:+07
DTSTART:20250101T000000
END:STANDARD
END:VTIMEZONE
BEGIN:VEVENT
DTSTART;VALUE=DATE:20250406
DTEND;VALUE=DATE:20250407
DTSTAMP:20260424T100233
CREATED:20230401T081308Z
LAST-MODIFIED:20250107T151357Z
UID:1403-1743897600-1743983999@japaneseswordmuseumthailand.com
SUMMARY:วันจักรี
DESCRIPTION:วันจักรีตรงกับวันที่ 6 เมษายน ของทุกปี คือวันที่พระบาทสมเด็จพระพุทธยอดฟ้าจุฬาโลกมหาราช (รัชกาลที่ 1) ขึ้นเถลิงถวัลยราชสมบัติเป็นปฐมกษัตริย์แห่งพระบรมราชวงศ์จักรี และยังเป็นวันครบรอบกรุงเทพมหานครอีกด้วย
URL:https://japaneseswordmuseumthailand.com/event/%e0%b8%a7%e0%b8%b1%e0%b8%99%e0%b8%88%e0%b8%b1%e0%b8%81%e0%b8%a3%e0%b8%b5/
CATEGORIES:ไทย
END:VEVENT
BEGIN:VEVENT
DTSTART;VALUE=DATE:20250406
DTEND;VALUE=DATE:20250407
DTSTAMP:20260424T100233
CREATED:20230408T125339Z
LAST-MODIFIED:20250107T151349Z
UID:1849-1743897600-1743983999@japaneseswordmuseumthailand.com
SUMMARY:Chakri Day
DESCRIPTION:Chakri Day falls on April 6 of every year\, which is the day that King Rama I ascended the throne as the first monarch of the Chakri dynasty. And it’s also the anniversary of Bangkok.
URL:https://japaneseswordmuseumthailand.com/event/chakri-day-2/
CATEGORIES:อังกฤษ
END:VEVENT
BEGIN:VEVENT
DTSTART;VALUE=DATE:20250406
DTEND;VALUE=DATE:20250407
DTSTAMP:20260424T100233
CREATED:20240126T135520Z
LAST-MODIFIED:20250107T145641Z
UID:1958-1743897600-1743983999@japaneseswordmuseumthailand.com
SUMMARY:Chakri Day
DESCRIPTION:Chakri Day falls on April 6 of every year\, which is the day that King Rama I ascended the throne as the first monarch of the Chakri dynasty. And it’s also the anniversary of Bangkok.
URL:https://japaneseswordmuseumthailand.com/event/chakri-day/
CATEGORIES:อังกฤษ
END:VEVENT
BEGIN:VEVENT
DTSTART;VALUE=DATE:20250406
DTEND;VALUE=DATE:20250407
DTSTAMP:20260424T100233
CREATED:20240126T135529Z
LAST-MODIFIED:20250107T145618Z
UID:1957-1743897600-1743983999@japaneseswordmuseumthailand.com
SUMMARY:วันจักรี
DESCRIPTION:วันจักรีตรงกับวันที่ 6 เมษายน ของทุกปี คือวันที่พระบาทสมเด็จพระพุทธยอดฟ้าจุฬาโลกมหาราช (รัชกาลที่ 1) ขึ้นเถลิงถวัลยราชสมบัติเป็นปฐมกษัตริย์แห่งพระบรมราชวงศ์จักรี และยังเป็นวันครบรอบกรุงเทพมหานครอีกด้วย
URL:https://japaneseswordmuseumthailand.com/event/%e0%b8%a7%e0%b8%b1%e0%b8%99%e0%b8%88%e0%b8%b1%e0%b8%81%e0%b8%a3%e0%b8%b5-2/
CATEGORIES:ไทย
END:VEVENT
END:VCALENDAR