BEGIN:VCALENDAR
VERSION:2.0
PRODID:-//Japanswordmuseumthailand - ECPv6.3.1//NONSGML v1.0//EN
CALSCALE:GREGORIAN
METHOD:PUBLISH
X-ORIGINAL-URL:https://japaneseswordmuseumthailand.com
X-WR-CALDESC:Events for Japanswordmuseumthailand
REFRESH-INTERVAL;VALUE=DURATION:PT1H
X-Robots-Tag:noindex
X-PUBLISHED-TTL:PT1H
BEGIN:VTIMEZONE
TZID:Asia/Krasnoyarsk
BEGIN:STANDARD
TZOFFSETFROM:+0700
TZOFFSETTO:+0700
TZNAME:+07
DTSTART:20250101T000000
END:STANDARD
END:VTIMEZONE
BEGIN:VEVENT
DTSTART;VALUE=DATE:20250306
DTEND;VALUE=DATE:20250307
DTSTAMP:20260424T111405
CREATED:20230401T080806Z
LAST-MODIFIED:20250107T151652Z
UID:1393-1741219200-1741305599@japaneseswordmuseumthailand.com
SUMMARY:วันมาฆบูชา
DESCRIPTION:วันมาฆบูชาเป็นวันสำคัญทางศาสนาอีกวันหนึ่ง ตรงกับวันขึ้น 15 ค่ำ เดือน 3 มีความสำคัญคือเป็นวันที่พระพุทธเจ้าทรงแสดงโอวาทปาติโมกข์แก่พระสงฆ์เป็นครั้งแรก และเป็นวันที่มีพระสงฆ์จำนวน 1\,250 รูป มาประชุมพร้อมกันโดยไม่ได้นัดหมาย ณ วัดเวฬุวัน เมืองราชคฤห์ แคว้นมคธ เพื่อสักการะพระสัมมาสัมพุทธเจ้า
URL:https://japaneseswordmuseumthailand.com/event/%e0%b8%a7%e0%b8%b1%e0%b8%99%e0%b8%a1%e0%b8%b2%e0%b8%86%e0%b8%9a%e0%b8%b9%e0%b8%8a%e0%b8%b2/
CATEGORIES:ไทย
END:VEVENT
BEGIN:VEVENT
DTSTART;VALUE=DATE:20250306
DTEND;VALUE=DATE:20250307
DTSTAMP:20260424T111405
CREATED:20230408T130207Z
LAST-MODIFIED:20250107T151645Z
UID:1865-1741219200-1741305599@japaneseswordmuseumthailand.com
SUMMARY:Makha Bucha Day
DESCRIPTION:Makha Bucha Day is another important religious day. It falls on the fifteenth day of the waxing moon of the third month. And it was the day that 1\,250 monks came together without an appointment at Wat Weluwan\, Rajagaha\, Bihar Province\, to pay homage to the Lord Buddha.
URL:https://japaneseswordmuseumthailand.com/event/makha-bucha-day-2/
CATEGORIES:อังกฤษ
END:VEVENT
BEGIN:VEVENT
DTSTART;VALUE=DATE:20250306
DTEND;VALUE=DATE:20250307
DTSTAMP:20260424T111405
CREATED:20240126T135548Z
LAST-MODIFIED:20250107T145705Z
UID:1955-1741219200-1741305599@japaneseswordmuseumthailand.com
SUMMARY:Makha Bucha Day
DESCRIPTION:Makha Bucha Day is another important religious day. It falls on the fifteenth day of the waxing moon of the third month. And it was the day that 1\,250 monks came together without an appointment at Wat Weluwan\, Rajagaha\, Bihar Province\, to pay homage to the Lord Buddha.
URL:https://japaneseswordmuseumthailand.com/event/makha-bucha-day/
CATEGORIES:อังกฤษ
END:VEVENT
BEGIN:VEVENT
DTSTART;VALUE=DATE:20250306
DTEND;VALUE=DATE:20250307
DTSTAMP:20260424T111405
CREATED:20240126T135558Z
LAST-MODIFIED:20250107T145658Z
UID:1954-1741219200-1741305599@japaneseswordmuseumthailand.com
SUMMARY:วันมาฆบูชา
DESCRIPTION:วันมาฆบูชาเป็นวันสำคัญทางศาสนาอีกวันหนึ่ง ตรงกับวันขึ้น 15 ค่ำ เดือน 3 มีความสำคัญคือเป็นวันที่พระพุทธเจ้าทรงแสดงโอวาทปาติโมกข์แก่พระสงฆ์เป็นครั้งแรก และเป็นวันที่มีพระสงฆ์จำนวน 1\,250 รูป มาประชุมพร้อมกันโดยไม่ได้นัดหมาย ณ วัดเวฬุวัน เมืองราชคฤห์ แคว้นมคธ เพื่อสักการะพระสัมมาสัมพุทธเจ้า
URL:https://japaneseswordmuseumthailand.com/event/%e0%b8%a7%e0%b8%b1%e0%b8%99%e0%b8%a1%e0%b8%b2%e0%b8%86%e0%b8%9a%e0%b8%b9%e0%b8%8a%e0%b8%b2-2/
CATEGORIES:ไทย
END:VEVENT
END:VCALENDAR