BEGIN:VCALENDAR
VERSION:2.0
PRODID:-//Japanswordmuseumthailand - ECPv6.3.1//NONSGML v1.0//EN
CALSCALE:GREGORIAN
METHOD:PUBLISH
X-WR-CALNAME:Japanswordmuseumthailand
X-ORIGINAL-URL:https://japaneseswordmuseumthailand.com
X-WR-CALDESC:Events for Japanswordmuseumthailand
REFRESH-INTERVAL;VALUE=DURATION:PT1H
X-Robots-Tag:noindex
X-PUBLISHED-TTL:PT1H
BEGIN:VTIMEZONE
TZID:Asia/Krasnoyarsk
BEGIN:STANDARD
TZOFFSETFROM:+0700
TZOFFSETTO:+0700
TZNAME:+07
DTSTART:20250101T000000
END:STANDARD
END:VTIMEZONE
BEGIN:VEVENT
DTSTART;VALUE=DATE:20250203
DTEND;VALUE=DATE:20250204
DTSTAMP:20260424T122022
CREATED:20230401T080717Z
LAST-MODIFIED:20250107T151739Z
UID:1391-1738540800-1738627199@japaneseswordmuseumthailand.com
SUMMARY:วันทหารผ่านศึก
DESCRIPTION:3 กุมภาพันธ์ ของทุกปี เป็นวันทหารผ่านศึก ซึ่งจะเห็นสัญลักษณ์ของวันนี้ที่เป็นดอกป๊อปปี้สีแดง ซึ่งสื่อความหมายถึงเลือดของทหารกล้าที่อาบชโลมผืนแผ่นดิน และวันทหารผ่านศึกก็มีขึ้นเพื่อยกย่องทหารกล้า และเป็นการให้ความช่วยเหลือครอบครัวทหารที่เสียชีวิตในการรบจากสงครามโลกครั้งที่ 2
URL:https://japaneseswordmuseumthailand.com/event/%e0%b8%a7%e0%b8%b1%e0%b8%99%e0%b8%97%e0%b8%ab%e0%b8%b2%e0%b8%a3%e0%b8%9c%e0%b9%88%e0%b8%b2%e0%b8%99%e0%b8%a8%e0%b8%b6%e0%b8%81/
CATEGORIES:ไทย
END:VEVENT
BEGIN:VEVENT
DTSTART;VALUE=DATE:20250203
DTEND;VALUE=DATE:20250204
DTSTAMP:20260424T122022
CREATED:20230408T130337Z
LAST-MODIFIED:20250107T151731Z
UID:1871-1738540800-1738627199@japaneseswordmuseumthailand.com
SUMMARY:veterans day
DESCRIPTION:February 3 of every year is Veterans Day\, which today’s symbol is a red poppy. which represents the blood of brave soldiers who bathe the land And Veterans Day is dedicated to honoring brave soldiers. and to help the families of soldiers who lost their lives in World War II.
URL:https://japaneseswordmuseumthailand.com/event/veterans-day-2/
CATEGORIES:อังกฤษ
END:VEVENT
END:VCALENDAR