BEGIN:VCALENDAR
VERSION:2.0
PRODID:-//Japanswordmuseumthailand - ECPv6.3.1//NONSGML v1.0//EN
CALSCALE:GREGORIAN
METHOD:PUBLISH
X-ORIGINAL-URL:https://japaneseswordmuseumthailand.com
X-WR-CALDESC:Events for Japanswordmuseumthailand
REFRESH-INTERVAL;VALUE=DURATION:PT1H
X-Robots-Tag:noindex
X-PUBLISHED-TTL:PT1H
BEGIN:VTIMEZONE
TZID:Asia/Krasnoyarsk
BEGIN:STANDARD
TZOFFSETFROM:+0700
TZOFFSETTO:+0700
TZNAME:+07
DTSTART:20250101T000000
END:STANDARD
END:VTIMEZONE
BEGIN:VEVENT
DTSTART;VALUE=DATE:20250202
DTEND;VALUE=DATE:20250203
DTSTAMP:20260424T122033
CREATED:20230401T080653Z
LAST-MODIFIED:20250107T151752Z
UID:1389-1738454400-1738540799@japaneseswordmuseumthailand.com
SUMMARY:วันนักประดิษฐ์
DESCRIPTION:วันที่ 2 กุมภาพันธ์ ของทุกปี เป็นวันนักประดิษฐ์ ซึ่งมีขึ้นเพื่อเป็นการเทิดพระเกียรติแด่พระบาทสมเด็จพระปรมินทรมหาภูมิพลอดุลยเดช กษัตริย์ผู้มีพระปรีชาสามารถด้านสิ่งประดิษฐ์จนทั่วโลกยอมรับ
URL:https://japaneseswordmuseumthailand.com/event/%e0%b8%a7%e0%b8%b1%e0%b8%99%e0%b8%99%e0%b8%b1%e0%b8%81%e0%b8%9b%e0%b8%a3%e0%b8%b0%e0%b8%94%e0%b8%b4%e0%b8%a9%e0%b8%90%e0%b9%8c/
CATEGORIES:ไทย
END:VEVENT
BEGIN:VEVENT
DTSTART;VALUE=DATE:20250202
DTEND;VALUE=DATE:20250203
DTSTAMP:20260424T122033
CREATED:20230408T130406Z
LAST-MODIFIED:20250107T151746Z
UID:1873-1738454400-1738540799@japaneseswordmuseumthailand.com
SUMMARY:inventor's day
DESCRIPTION:February 2 of every year is Inventor’s Day. which is meant to honor His Majesty King Bhumibol Adulyadej A wise king who is capable of inventing until the world accepts
URL:https://japaneseswordmuseumthailand.com/event/inventors-day-2/
CATEGORIES:อังกฤษ
END:VEVENT
END:VCALENDAR