BEGIN:VCALENDAR
VERSION:2.0
PRODID:-//Japanswordmuseumthailand - ECPv6.3.1//NONSGML v1.0//EN
CALSCALE:GREGORIAN
METHOD:PUBLISH
X-WR-CALNAME:Japanswordmuseumthailand
X-ORIGINAL-URL:https://japaneseswordmuseumthailand.com
X-WR-CALDESC:Events for Japanswordmuseumthailand
REFRESH-INTERVAL;VALUE=DURATION:PT1H
X-Robots-Tag:noindex
X-PUBLISHED-TTL:PT1H
BEGIN:VTIMEZONE
TZID:Asia/Krasnoyarsk
BEGIN:STANDARD
TZOFFSETFROM:+0700
TZOFFSETTO:+0700
TZNAME:+07
DTSTART:20250101T000000
END:STANDARD
END:VTIMEZONE
BEGIN:VEVENT
DTSTART;VALUE=DATE:20250117
DTEND;VALUE=DATE:20250118
DTSTAMP:20260424T132748
CREATED:20230401T080625Z
LAST-MODIFIED:20250107T151833Z
UID:1387-1737072000-1737158399@japaneseswordmuseumthailand.com
SUMMARY:วันพ่อขุนรามคำแหงมหาราช
DESCRIPTION:วันพ่อขุนรามคำแหงมหาราช ตรงกับวันที่ 17 มกราคม ของทุกปี มีขึ้นเพื่อร่วมรำลึกถึงพระมหากรุณาธิคุณของพระมหากษัตริย์แห่งราชวงศ์พระร่วง กรุงสุโขทัย พระมหากษัตริย์ผู้ทรงริเริ่มประดิษฐ์อักษรไทยขึ้นมา
URL:https://japaneseswordmuseumthailand.com/event/%e0%b8%a7%e0%b8%b1%e0%b8%99%e0%b8%9e%e0%b9%88%e0%b8%ad%e0%b8%82%e0%b8%b8%e0%b8%99%e0%b8%a3%e0%b8%b2%e0%b8%a1%e0%b8%84%e0%b8%b3%e0%b9%81%e0%b8%ab%e0%b8%87%e0%b8%a1%e0%b8%ab%e0%b8%b2%e0%b8%a3%e0%b8%b2/
CATEGORIES:ไทย
END:VEVENT
BEGIN:VEVENT
DTSTART;VALUE=DATE:20250117
DTEND;VALUE=DATE:20250118
DTSTAMP:20260424T132748
CREATED:20230408T130438Z
LAST-MODIFIED:20250107T151801Z
UID:1875-1737072000-1737158399@japaneseswordmuseumthailand.com
SUMMARY:Father Khun Ramkhamhaeng the Great Day
DESCRIPTION:King Ramkhamhaeng’s Day falls on January 17 of every year to commemorate the benevolence of the King of the Phra Ruang dynasty of Sukhothai\, the king who initiated the invention of the Thai alphabet.
URL:https://japaneseswordmuseumthailand.com/event/father-khun-ramkhamhaeng-the-great-day-2/
CATEGORIES:อังกฤษ
END:VEVENT
END:VCALENDAR