BEGIN:VCALENDAR
VERSION:2.0
PRODID:-//Japanswordmuseumthailand - ECPv6.3.1//NONSGML v1.0//EN
CALSCALE:GREGORIAN
METHOD:PUBLISH
X-ORIGINAL-URL:https://japaneseswordmuseumthailand.com
X-WR-CALDESC:Events for Japanswordmuseumthailand
REFRESH-INTERVAL;VALUE=DURATION:PT1H
X-Robots-Tag:noindex
X-PUBLISHED-TTL:PT1H
BEGIN:VTIMEZONE
TZID:Asia/Krasnoyarsk
BEGIN:STANDARD
TZOFFSETFROM:+0700
TZOFFSETTO:+0700
TZNAME:+07
DTSTART:20250101T000000
END:STANDARD
END:VTIMEZONE
BEGIN:VEVENT
DTSTART;VALUE=DATE:20250104
DTEND;VALUE=DATE:20250105
DTSTAMP:20260424T132840
CREATED:20230321T031504Z
LAST-MODIFIED:20250107T151930Z
UID:1372-1735948800-1736035199@japaneseswordmuseumthailand.com
SUMMARY:วันทหารม้า
DESCRIPTION:
URL:https://japaneseswordmuseumthailand.com/event/%e0%b8%a7%e0%b8%b1%e0%b8%99%e0%b8%97%e0%b8%ab%e0%b8%b2%e0%b8%a3%e0%b8%a1%e0%b9%89%e0%b8%b2/
CATEGORIES:ไทย
END:VEVENT
BEGIN:VEVENT
DTSTART;VALUE=DATE:20250104
DTEND;VALUE=DATE:20250105
DTSTAMP:20260424T132840
CREATED:20230408T130610Z
LAST-MODIFIED:20250107T151923Z
UID:1881-1735948800-1736035199@japaneseswordmuseumthailand.com
SUMMARY:cavalry day
DESCRIPTION:
URL:https://japaneseswordmuseumthailand.com/event/cavalry-day-2/
CATEGORIES:อังกฤษ
END:VEVENT
END:VCALENDAR